BEGIN:VCALENDAR
VERSION:2.0
PRODID:-//American Legion Auxiliary Unit 291 Newport Harbor - ECPv6.15.20//NONSGML v1.0//EN
CALSCALE:GREGORIAN
METHOD:PUBLISH
X-WR-CALNAME:American Legion Auxiliary Unit 291 Newport Harbor
X-ORIGINAL-URL:https://ala291.com
X-WR-CALDESC:Events for American Legion Auxiliary Unit 291 Newport Harbor
REFRESH-INTERVAL;VALUE=DURATION:PT1H
X-Robots-Tag:noindex
X-PUBLISHED-TTL:PT1H
BEGIN:VTIMEZONE
TZID:America/Los_Angeles
BEGIN:DAYLIGHT
TZOFFSETFROM:-0800
TZOFFSETTO:-0700
TZNAME:PDT
DTSTART:20230312T100000
END:DAYLIGHT
BEGIN:STANDARD
TZOFFSETFROM:-0700
TZOFFSETTO:-0800
TZNAME:PST
DTSTART:20231105T090000
END:STANDARD
BEGIN:DAYLIGHT
TZOFFSETFROM:-0800
TZOFFSETTO:-0700
TZNAME:PDT
DTSTART:20240310T100000
END:DAYLIGHT
BEGIN:STANDARD
TZOFFSETFROM:-0700
TZOFFSETTO:-0800
TZNAME:PST
DTSTART:20241103T090000
END:STANDARD
BEGIN:DAYLIGHT
TZOFFSETFROM:-0800
TZOFFSETTO:-0700
TZNAME:PDT
DTSTART:20250309T100000
END:DAYLIGHT
BEGIN:STANDARD
TZOFFSETFROM:-0700
TZOFFSETTO:-0800
TZNAME:PST
DTSTART:20251102T090000
END:STANDARD
BEGIN:DAYLIGHT
TZOFFSETFROM:-0800
TZOFFSETTO:-0700
TZNAME:PDT
DTSTART:20260308T100000
END:DAYLIGHT
BEGIN:STANDARD
TZOFFSETFROM:-0700
TZOFFSETTO:-0800
TZNAME:PST
DTSTART:20261101T090000
END:STANDARD
END:VTIMEZONE
BEGIN:VEVENT
DTSTART;TZID=America/Los_Angeles:20250125T000000
DTEND;TZID=America/Los_Angeles:20250125T000000
DTSTAMP:20260425T080737
CREATED:20241211T212217Z
LAST-MODIFIED:20241228T223453Z
UID:5268-1737763200-1737763200@ala291.com
SUMMARY:100-Year Celebration for January
DESCRIPTION:Newport Beach – Board Walk\nTime TBD
URL:https://ala291.com/event/100-year-celebration-for-january/
CATEGORIES:Fun
ATTACH;FMTTYPE=image/jpeg:https://ala291.com/wp-content/uploads/2024/12/100anniv-jan25.jpg
END:VEVENT
BEGIN:VEVENT
DTSTART;TZID=America/Los_Angeles:20250115T180000
DTEND;TZID=America/Los_Angeles:20250115T200000
DTSTAMP:20260425T080737
CREATED:20240830T181603Z
LAST-MODIFIED:20241019T232142Z
UID:4655-1736964000-1736971200@ala291.com
SUMMARY:General Meeting
DESCRIPTION:
URL:https://ala291.com/event/general-meeting-16/
CATEGORIES:Meetings
ATTACH;FMTTYPE=image/jpeg:https://ala291.com/wp-content/uploads/2024/08/ALA-General-Meeting-1.jpg
END:VEVENT
BEGIN:VEVENT
DTSTART;TZID=America/Los_Angeles:20250111T100000
DTEND;TZID=America/Los_Angeles:20250111T100000
DTSTAMP:20260425T080737
CREATED:20240830T174357Z
LAST-MODIFIED:20240830T174411Z
UID:4571-1736589600-1736589600@ala291.com
SUMMARY:District 29 Monthly Meeting\, Anaheim Post 72
DESCRIPTION:
URL:https://ala291.com/event/district-29-monthly-meeting-anaheim-post-72/
CATEGORIES:Meetings
END:VEVENT
BEGIN:VEVENT
DTSTART;TZID=America/Los_Angeles:20250109T180000
DTEND;TZID=America/Los_Angeles:20250109T200000
DTSTAMP:20260425T080737
CREATED:20240830T175430Z
LAST-MODIFIED:20240830T175438Z
UID:4617-1736445600-1736452800@ala291.com
SUMMARY:Executive Board Meeting
DESCRIPTION:
URL:https://ala291.com/event/executive-board-meeting-7/
CATEGORIES:Meetings
END:VEVENT
BEGIN:VEVENT
DTSTART;TZID=America/Los_Angeles:20241219T160000
DTEND;TZID=America/Los_Angeles:20241219T210000
DTSTAMP:20260425T080737
CREATED:20241125T113934Z
LAST-MODIFIED:20241125T113934Z
UID:5217-1734624000-1734642000@ala291.com
SUMMARY:Dockside Boat Parade Viewing
DESCRIPTION:
URL:https://ala291.com/event/dockside-boat-parade-viewing/
CATEGORIES:Fun,Holiday
ATTACH;FMTTYPE=image/jpeg:https://ala291.com/wp-content/uploads/2024/11/Dockside-Xmas-Viewing-Festivity.jpg
END:VEVENT
BEGIN:VEVENT
DTSTART;TZID=America/Los_Angeles:20241218T170000
DTEND;TZID=America/Los_Angeles:20241222T213000
DTSTAMP:20260425T080737
CREATED:20241125T114726Z
LAST-MODIFIED:20241125T114758Z
UID:5222-1734541200-1734903000@ala291.com
SUMMARY:Valor Christmas Boat Parade
DESCRIPTION:
URL:https://ala291.com/event/valor-christmas-boat-parade/
CATEGORIES:Fun,Holiday
ATTACH;FMTTYPE=image/jpeg:https://ala291.com/wp-content/uploads/2024/11/Valor-xmas-boat-parade.jpg
END:VEVENT
BEGIN:VEVENT
DTSTART;TZID=America/Los_Angeles:20241218T160000
DTEND;TZID=America/Los_Angeles:20241222T210000
DTSTAMP:20260425T080737
CREATED:20241125T114941Z
LAST-MODIFIED:20241125T115041Z
UID:5225-1734537600-1734901200@ala291.com
SUMMARY:Liberty Christmas Boat Parade
DESCRIPTION:
URL:https://ala291.com/event/liberty-christmas-boat-parade/
CATEGORIES:Fun,Holiday
ATTACH;FMTTYPE=image/jpeg:https://ala291.com/wp-content/uploads/2024/11/Liberty-xmas-boat-parade-1.jpg
END:VEVENT
BEGIN:VEVENT
DTSTART;TZID=America/Los_Angeles:20241215T170000
DTEND;TZID=America/Los_Angeles:20241215T200000
DTSTAMP:20260425T080737
CREATED:20241125T113438Z
LAST-MODIFIED:20241125T113439Z
UID:5212-1734282000-1734292800@ala291.com
SUMMARY:Valor Harbor Lights Cruise
DESCRIPTION:
URL:https://ala291.com/event/valor-harbor-lights-cruise/
CATEGORIES:Fun,Holiday
ATTACH;FMTTYPE=image/jpeg:https://ala291.com/wp-content/uploads/2024/11/Valor-Harbor-light-Cruise.jpg
END:VEVENT
BEGIN:VEVENT
DTSTART;TZID=America/Los_Angeles:20241215T160000
DTEND;TZID=America/Los_Angeles:20241217T190000
DTSTAMP:20260425T080737
CREATED:20241125T113722Z
LAST-MODIFIED:20241125T113747Z
UID:5214-1734278400-1734462000@ala291.com
SUMMARY:Liberty Harbor Lights Cruise
DESCRIPTION:
URL:https://ala291.com/event/liberty-harbor-lights-cruise/
CATEGORIES:Fun,Holiday
ATTACH;FMTTYPE=image/jpeg:https://ala291.com/wp-content/uploads/2024/11/Liberty-Harbor-Lights-Cruise.jpg
END:VEVENT
BEGIN:VEVENT
DTSTART;TZID=America/Los_Angeles:20241214T090000
DTEND;TZID=America/Los_Angeles:20241214T090000
DTSTAMP:20260425T080737
CREATED:20240221T183933Z
LAST-MODIFIED:20240829T175738Z
UID:3703-1734166800-1734166800@ala291.com
SUMMARY:District 29 Monthly Meeting - Buena Park Post 354
DESCRIPTION:
URL:https://ala291.com/event/district-29-monthly-meeting-cypress-post-295-2-2-2-2-2-2-2-2-2-3-2/
CATEGORIES:Meetings
END:VEVENT
BEGIN:VEVENT
DTSTART;TZID=America/Los_Angeles:20241208T110000
DTEND;TZID=America/Los_Angeles:20241208T130000
DTSTAMP:20260425T080737
CREATED:20241120T112943Z
LAST-MODIFIED:20241125T113018Z
UID:5177-1733655600-1733662800@ala291.com
SUMMARY:Kids Christmas Party
DESCRIPTION:
URL:https://ala291.com/event/kids-christmas-party-3/
CATEGORIES:Fun,Holiday
ATTACH;FMTTYPE=image/jpeg:https://ala291.com/wp-content/uploads/2024/11/Kids-Christmas-Party-2024.jpg
END:VEVENT
BEGIN:VEVENT
DTSTART;TZID=America/Los_Angeles:20241207T080000
DTEND;TZID=America/Los_Angeles:20241207T100000
DTSTAMP:20260425T080737
CREATED:20241028T144405Z
LAST-MODIFIED:20241028T144526Z
UID:5021-1733558400-1733565600@ala291.com
SUMMARY:Good Ride Poker Run OC
DESCRIPTION:
URL:https://ala291.com/event/good-ride-poker-run/
CATEGORIES:Fun
ATTACH;FMTTYPE=image/jpeg:https://ala291.com/wp-content/uploads/2024/10/Good-Ride-OC-2024-Flyer.jpg
END:VEVENT
BEGIN:VEVENT
DTSTART;TZID=America/Los_Angeles:20241125T173000
DTEND;TZID=America/Los_Angeles:20241125T190000
DTSTAMP:20260425T080737
CREATED:20241023T163415Z
LAST-MODIFIED:20241023T163657Z
UID:5008-1732555800-1732561200@ala291.com
SUMMARY:100 Year Anniversary Meeting
DESCRIPTION:
URL:https://ala291.com/event/100-year-anniversary-meeting-2/
CATEGORIES:Meetings
END:VEVENT
BEGIN:VEVENT
DTSTART;TZID=America/Los_Angeles:20241125T173000
DTEND;TZID=America/Los_Angeles:20241125T173000
DTSTAMP:20260425T080737
CREATED:20241116T145511Z
LAST-MODIFIED:20241116T145512Z
UID:5160-1732555800-1732555800@ala291.com
SUMMARY:Christmas Tree Decorating
DESCRIPTION:
URL:https://ala291.com/event/christmas-tree-decorating/
CATEGORIES:Fun,Holiday,Volunteer Opp
ATTACH;FMTTYPE=image/jpeg:https://ala291.com/wp-content/uploads/2024/11/Xmas-Decor.jpg
END:VEVENT
BEGIN:VEVENT
DTSTART;TZID=America/Los_Angeles:20241125T160000
DTEND;TZID=America/Los_Angeles:20241125T173000
DTSTAMP:20260425T080737
CREATED:20241023T163007Z
LAST-MODIFIED:20241023T163052Z
UID:4998-1732550400-1732555800@ala291.com
SUMMARY:Member to Member Meeting
DESCRIPTION:
URL:https://ala291.com/event/member-to-member-meeting-2/
CATEGORIES:Meetings
END:VEVENT
BEGIN:VEVENT
DTSTART;TZID=America/Los_Angeles:20241123T100000
DTEND;TZID=America/Los_Angeles:20241123T120000
DTSTAMP:20260425T080737
CREATED:20240221T192831Z
LAST-MODIFIED:20240914T180549Z
UID:3789-1732356000-1732363200@ala291.com
SUMMARY:Troop Shipping
DESCRIPTION:Main Hall
URL:https://ala291.com/event/troop-shipping-4-2/
CATEGORIES:Donations Needed,Fun,Volunteer Opp
ATTACH;FMTTYPE=image/jpeg:https://ala291.com/wp-content/uploads/2024/09/Troop-Shipping.jpg
END:VEVENT
BEGIN:VEVENT
DTSTART;TZID=America/Los_Angeles:20241121T150000
DTEND;TZID=America/Los_Angeles:20241121T193000
DTSTAMP:20260425T080737
CREATED:20240221T191219Z
LAST-MODIFIED:20241019T231921Z
UID:3774-1732201200-1732217400@ala291.com
SUMMARY:Holiday Boutique
DESCRIPTION:<!–themify_builder_static–><!–/themify_builder_static–>
URL:https://ala291.com/event/holiday-boutique-3-2-2/
CATEGORIES:Fun,Holiday
ATTACH;FMTTYPE=image/jpeg:https://ala291.com/wp-content/uploads/2024/10/Aux-holiday-boutique-24.jpg
END:VEVENT
BEGIN:VEVENT
DTSTART;TZID=America/Los_Angeles:20241120T180000
DTEND;TZID=America/Los_Angeles:20241120T200000
DTSTAMP:20260425T080737
CREATED:20240221T184939Z
LAST-MODIFIED:20241019T232110Z
UID:3755-1732125600-1732132800@ala291.com
SUMMARY:General Meeting
DESCRIPTION: 
URL:https://ala291.com/event/general-meeting-14-2-2-2-2-2-2-3-2-2-2-2-2-2-2-2-2-2/
LOCATION:Main Hall
CATEGORIES:Meetings
ATTACH;FMTTYPE=image/jpeg:https://ala291.com/wp-content/uploads/2024/09/ALA291-General-Meeting.jpg
ORGANIZER;CN="Cindy Edes":MAILTO:cindyedes291@gmail.com
END:VEVENT
BEGIN:VEVENT
DTSTART;TZID=America/Los_Angeles:20241114T180000
DTEND;TZID=America/Los_Angeles:20241114T200000
DTSTAMP:20260425T080737
CREATED:20240221T184514Z
LAST-MODIFIED:20240829T173406Z
UID:3729-1731607200-1731614400@ala291.com
SUMMARY:Executive Board Meeting
DESCRIPTION:Fireside Room
URL:https://ala291.com/event/executive-board-meeting-6-2-2-2-2-2-2-2-2-2/
CATEGORIES:Meetings
END:VEVENT
BEGIN:VEVENT
DTSTART;TZID=America/Los_Angeles:20241109T090000
DTEND;TZID=America/Los_Angeles:20241109T090000
DTSTAMP:20260425T080737
CREATED:20240221T183903Z
LAST-MODIFIED:20240829T174014Z
UID:3696-1731142800-1731142800@ala291.com
SUMMARY:District 29 Monthly Meeting - Newport Harbor Post 291
DESCRIPTION:
URL:https://ala291.com/event/district-29-monthly-meeting-cypress-post-295-2-2-2-2-2-2-2-2-2-3/
CATEGORIES:Meetings
END:VEVENT
BEGIN:VEVENT
DTSTART;TZID=America/Los_Angeles:20241104T090000
DTEND;TZID=America/Los_Angeles:20241104T140000
DTSTAMP:20260425T080737
CREATED:20240829T173212Z
LAST-MODIFIED:20241031T234004Z
UID:4528-1730710800-1730728800@ala291.com
SUMMARY:Raffle Ticket Stuffing
DESCRIPTION:
URL:https://ala291.com/event/raffle-ticket-stuffing/
CATEGORIES:Volunteer Opp
ATTACH;FMTTYPE=image/jpeg:https://ala291.com/wp-content/uploads/2024/08/stuffing.jpg
END:VEVENT
BEGIN:VEVENT
DTSTART;TZID=America/Los_Angeles:20241028T173000
DTEND;TZID=America/Los_Angeles:20241028T190000
DTSTAMP:20260425T080737
CREATED:20241023T163406Z
LAST-MODIFIED:20241023T163414Z
UID:5002-1730136600-1730142000@ala291.com
SUMMARY:100 Year Anniversary Meeting
DESCRIPTION:
URL:https://ala291.com/event/100-year-anniversary-meeting/
CATEGORIES:Meetings
END:VEVENT
BEGIN:VEVENT
DTSTART;TZID=America/Los_Angeles:20241028T160000
DTEND;TZID=America/Los_Angeles:20241028T173000
DTSTAMP:20260425T080737
CREATED:20241023T162956Z
LAST-MODIFIED:20241023T163006Z
UID:4992-1730131200-1730136600@ala291.com
SUMMARY:Member to Member Meeting
DESCRIPTION:
URL:https://ala291.com/event/member-to-member-meeting/
CATEGORIES:Meetings
END:VEVENT
BEGIN:VEVENT
DTSTART;TZID=America/Los_Angeles:20241027T110000
DTEND;TZID=America/Los_Angeles:20241027T130000
DTSTAMP:20260425T080737
CREATED:20230905T164258Z
LAST-MODIFIED:20240923T204622Z
UID:2822-1730026800-1730034000@ala291.com
SUMMARY:Kids Halloween Party
DESCRIPTION:MAIN HALL\nKids Halloween Party\nChildren are encourage to wear their favorite costumes\, there will be pizza\, drinks\, and lots of games.
URL:https://ala291.com/event/kids-halloween-party-2/
CATEGORIES:Fun
ATTACH;FMTTYPE=image/jpeg:https://ala291.com/wp-content/uploads/2022/11/Halloween-2022-e1708542609747.jpg
ORGANIZER;CN="Bea Foster":MAILTO:child-youth@ala291.com
END:VEVENT
BEGIN:VEVENT
DTSTART;TZID=America/Los_Angeles:20241020T080000
DTEND;TZID=America/Los_Angeles:20241020T170000
DTSTAMP:20260425T080737
CREATED:20240221T201900Z
LAST-MODIFIED:20240221T201900Z
UID:3804-1729411200-1729443600@ala291.com
SUMMARY:Auxiliary 99 Years Anniversary
DESCRIPTION:
URL:https://ala291.com/event/auxiliary-99-years-anniversary/
ATTACH;FMTTYPE=image/jpeg:https://ala291.com/wp-content/uploads/2024/02/99-anniversary.jpg
END:VEVENT
BEGIN:VEVENT
DTSTART;TZID=America/Los_Angeles:20241019T100000
DTEND;TZID=America/Los_Angeles:20241019T100000
DTSTAMP:20260425T080737
CREATED:20240221T183527Z
LAST-MODIFIED:20240928T165036Z
UID:3683-1729332000-1729332000@ala291.com
SUMMARY:District 29 Monthly Meeting - Yorba Linda Post 679
DESCRIPTION:All those that attend the meeting will receive free admission into the Nixon Library.
URL:https://ala291.com/event/district-29-monthly-meeting-cypress-post-295-2-2-2-2-2-2-2-2-2/
CATEGORIES:Meetings
END:VEVENT
BEGIN:VEVENT
DTSTART;TZID=America/Los_Angeles:20241016T180000
DTEND;TZID=America/Los_Angeles:20241016T200000
DTSTAMP:20260425T080737
CREATED:20240221T184910Z
LAST-MODIFIED:20240221T184938Z
UID:3748-1729101600-1729108800@ala291.com
SUMMARY:General Meeting
DESCRIPTION: 
URL:https://ala291.com/event/general-meeting-14-2-2-2-2-2-2-3-2-2-2-2-2-2-2-2-2/
LOCATION:Main Hall
CATEGORIES:Meetings
ATTACH;FMTTYPE=image/jpeg:https://ala291.com/wp-content/uploads/2024/01/ALA-General-Meeting-Flyer-2.jpg
ORGANIZER;CN="Cindy Edes":MAILTO:cindyedes291@gmail.com
END:VEVENT
BEGIN:VEVENT
DTSTART;TZID=America/Los_Angeles:20241014T100000
DTEND;TZID=America/Los_Angeles:20241014T160000
DTSTAMP:20260425T080737
CREATED:20240228T210434Z
LAST-MODIFIED:20240829T172116Z
UID:4059-1728900000-1728921600@ala291.com
SUMMARY:Blood Drive
DESCRIPTION:Main Hall
URL:https://ala291.com/event/blood-drive-2-2-2-2/
CATEGORIES:Donations Needed
ATTACH;FMTTYPE=image/jpeg:https://ala291.com/wp-content/uploads/2024/08/Blood-drive-10-24.jpg
END:VEVENT
BEGIN:VEVENT
DTSTART;TZID=America/Los_Angeles:20241010T180000
DTEND;TZID=America/Los_Angeles:20241010T200000
DTSTAMP:20260425T080737
CREATED:20240221T184439Z
LAST-MODIFIED:20240829T173540Z
UID:3723-1728583200-1728590400@ala291.com
SUMMARY:Executive Board Meeting
DESCRIPTION:Fireside Room
URL:https://ala291.com/event/executive-board-meeting-6-2-2-2-2-2-2-2-2/
CATEGORIES:Meetings
END:VEVENT
BEGIN:VEVENT
DTSTART;TZID=America/Los_Angeles:20240918T180000
DTEND;TZID=America/Los_Angeles:20240918T200000
DTSTAMP:20260425T080737
CREATED:20240221T184835Z
LAST-MODIFIED:20240916T014316Z
UID:3741-1726682400-1726689600@ala291.com
SUMMARY:General Meeting - Wear read for Holiday picture
DESCRIPTION:Please wear a red or holiday shirt to take our Holiday Picture!
URL:https://ala291.com/event/general-meeting-14-2-2-2-2-2-2-3-2-2-2-2-2-2-2-2/
LOCATION:Main Hall
CATEGORIES:Meetings
ATTACH;FMTTYPE=image/jpeg:https://ala291.com/wp-content/uploads/2024/08/ALA-General-Meeting.jpg
ORGANIZER;CN="Cindy Edes":MAILTO:cindyedes291@gmail.com
END:VEVENT
END:VCALENDAR