BEGIN:VCALENDAR
VERSION:2.0
PRODID:-//American Legion Auxiliary Unit 291 Newport Harbor - ECPv6.15.20//NONSGML v1.0//EN
CALSCALE:GREGORIAN
METHOD:PUBLISH
X-WR-CALNAME:American Legion Auxiliary Unit 291 Newport Harbor
X-ORIGINAL-URL:https://ala291.com
X-WR-CALDESC:Events for American Legion Auxiliary Unit 291 Newport Harbor
REFRESH-INTERVAL;VALUE=DURATION:PT1H
X-Robots-Tag:noindex
X-PUBLISHED-TTL:PT1H
BEGIN:VTIMEZONE
TZID:America/Los_Angeles
BEGIN:DAYLIGHT
TZOFFSETFROM:-0800
TZOFFSETTO:-0700
TZNAME:PDT
DTSTART:20220313T100000
END:DAYLIGHT
BEGIN:STANDARD
TZOFFSETFROM:-0700
TZOFFSETTO:-0800
TZNAME:PST
DTSTART:20221106T090000
END:STANDARD
BEGIN:DAYLIGHT
TZOFFSETFROM:-0800
TZOFFSETTO:-0700
TZNAME:PDT
DTSTART:20230312T100000
END:DAYLIGHT
BEGIN:STANDARD
TZOFFSETFROM:-0700
TZOFFSETTO:-0800
TZNAME:PST
DTSTART:20231105T090000
END:STANDARD
BEGIN:DAYLIGHT
TZOFFSETFROM:-0800
TZOFFSETTO:-0700
TZNAME:PDT
DTSTART:20240310T100000
END:DAYLIGHT
BEGIN:STANDARD
TZOFFSETFROM:-0700
TZOFFSETTO:-0800
TZNAME:PST
DTSTART:20241103T090000
END:STANDARD
BEGIN:DAYLIGHT
TZOFFSETFROM:-0800
TZOFFSETTO:-0700
TZNAME:PDT
DTSTART:20250309T100000
END:DAYLIGHT
BEGIN:STANDARD
TZOFFSETFROM:-0700
TZOFFSETTO:-0800
TZNAME:PST
DTSTART:20251102T090000
END:STANDARD
END:VTIMEZONE
BEGIN:VEVENT
DTSTART;TZID=America/Los_Angeles:20240221T180000
DTEND;TZID=America/Los_Angeles:20240221T200000
DTSTAMP:20260425T145812
CREATED:20231228T192117Z
LAST-MODIFIED:20240125T203256Z
UID:3194-1708538400-1708545600@ala291.com
SUMMARY:General Meeting
DESCRIPTION: 
URL:https://ala291.com/event/general-meeting-14-2-2-2-2-2-2-3-2/
LOCATION:Main Hall
CATEGORIES:Meetings
ATTACH;FMTTYPE=image/jpeg:https://ala291.com/wp-content/uploads/2024/01/ALA-General-Meeting-Flyer-2.jpg
ORGANIZER;CN="Cindy Edes":MAILTO:cindyedes291@gmail.com
END:VEVENT
BEGIN:VEVENT
DTSTART;TZID=America/Los_Angeles:20240220T173000
DTEND;TZID=America/Los_Angeles:20240220T193000
DTSTAMP:20260425T145812
CREATED:20231228T193339Z
LAST-MODIFIED:20231228T193355Z
UID:3234-1708450200-1708457400@ala291.com
SUMMARY:Line Dancing
DESCRIPTION:
URL:https://ala291.com/event/line-dancing-2-2-2-2-3-2-2-3-2-2-2/
CATEGORIES:Fun
ATTACH;FMTTYPE=image/jpeg:https://ala291.com/wp-content/uploads/2022/08/Line-Dancing-web.jpg
END:VEVENT
BEGIN:VEVENT
DTSTART;TZID=America/Los_Angeles:20240219T100000
DTEND;TZID=America/Los_Angeles:20240219T160000
DTSTAMP:20260425T145812
CREATED:20240125T203836Z
LAST-MODIFIED:20240228T210433Z
UID:3378-1708336800-1708358400@ala291.com
SUMMARY:Blood Drive
DESCRIPTION:Main Hall
URL:https://ala291.com/event/blood-drive-2-2-2/
CATEGORIES:Donations Needed
ATTACH;FMTTYPE=image/jpeg:https://ala291.com/wp-content/uploads/2024/02/Blood-Drive-Flier-021924.jpg
END:VEVENT
BEGIN:VEVENT
DTSTART;TZID=America/Los_Angeles:20240213T173000
DTEND;TZID=America/Los_Angeles:20240213T193000
DTSTAMP:20260425T145813
CREATED:20231228T193523Z
LAST-MODIFIED:20231228T193551Z
UID:3255-1707845400-1707852600@ala291.com
SUMMARY:Swing Dancing
DESCRIPTION:
URL:https://ala291.com/event/line-dancing-2-2-2-2-2-2-2-2-2-3-2-2/
CATEGORIES:Fun
ATTACH;FMTTYPE=image/jpeg:https://ala291.com/wp-content/uploads/2023/02/Swing-Dancing-Flyer-2023.jpg
END:VEVENT
BEGIN:VEVENT
DTSTART;TZID=America/Los_Angeles:20240212T180000
DTEND;TZID=America/Los_Angeles:20240212T200000
DTSTAMP:20260425T145813
CREATED:20240125T200323Z
LAST-MODIFIED:20240125T200532Z
UID:3297-1707760800-1707768000@ala291.com
SUMMARY:Executive Board Meeting
DESCRIPTION:Fireside Room
URL:https://ala291.com/event/executive-board-meeting-6/
CATEGORIES:Meetings
END:VEVENT
BEGIN:VEVENT
DTSTART;TZID=America/Los_Angeles:20240211T090000
DTEND;TZID=America/Los_Angeles:20240211T090000
DTSTAMP:20260425T145813
CREATED:20240221T182808Z
LAST-MODIFIED:20240221T183201Z
UID:3624-1707642000-1707642000@ala291.com
SUMMARY:District 29 Monthly Meeting - Cypress Post 295
DESCRIPTION:
URL:https://ala291.com/event/district-29-monthly-meeting-cypress-post-295-2/
CATEGORIES:Meetings
END:VEVENT
BEGIN:VEVENT
DTSTART;TZID=America/Los_Angeles:20240206T173000
DTEND;TZID=America/Los_Angeles:20240206T193000
DTSTAMP:20260425T145813
CREATED:20231228T193303Z
LAST-MODIFIED:20231228T193338Z
UID:3227-1707240600-1707247800@ala291.com
SUMMARY:Line Dancing
DESCRIPTION:
URL:https://ala291.com/event/line-dancing-2-2-2-2-3-2-2-3-2-2/
CATEGORIES:Fun
ATTACH;FMTTYPE=image/jpeg:https://ala291.com/wp-content/uploads/2022/08/Line-Dancing-web.jpg
END:VEVENT
BEGIN:VEVENT
DTSTART;TZID=America/Los_Angeles:20240204T170000
DTEND;TZID=America/Los_Angeles:20240204T220000
DTSTAMP:20260425T145813
CREATED:20240204T191027Z
LAST-MODIFIED:20240204T191027Z
UID:3422-1707066000-1707084000@ala291.com
SUMMARY:Salute to Service
DESCRIPTION:Main Hall
URL:https://ala291.com/event/salute-to-service/
CATEGORIES:Meetings
END:VEVENT
BEGIN:VEVENT
DTSTART;TZID=America/Los_Angeles:20240123T173000
DTEND;TZID=America/Los_Angeles:20240123T193000
DTSTAMP:20260425T145813
CREATED:20231228T193458Z
LAST-MODIFIED:20231228T193522Z
UID:3248-1706031000-1706038200@ala291.com
SUMMARY:Swing Dancing
DESCRIPTION:
URL:https://ala291.com/event/line-dancing-2-2-2-2-2-2-2-2-2-3-2/
CATEGORIES:Fun
ATTACH;FMTTYPE=image/jpeg:https://ala291.com/wp-content/uploads/2023/02/Swing-Dancing-Flyer-2023.jpg
END:VEVENT
BEGIN:VEVENT
DTSTART;TZID=America/Los_Angeles:20240117T180000
DTEND;TZID=America/Los_Angeles:20240117T193000
DTSTAMP:20260425T145813
CREATED:20231228T192027Z
LAST-MODIFIED:20231228T192116Z
UID:3187-1705514400-1705519800@ala291.com
SUMMARY:General Meeting
DESCRIPTION: 
URL:https://ala291.com/event/general-meeting-14-2-2-2-2-2-2-3/
LOCATION:Main Hall
CATEGORIES:Meetings
ATTACH;FMTTYPE=image/jpeg:https://ala291.com/wp-content/uploads/2022/05/General-Meeting-Ala-Flyer.jpg
ORGANIZER;CN="Cindy Edes":MAILTO:cindyedes291@gmail.com
END:VEVENT
BEGIN:VEVENT
DTSTART;TZID=America/Los_Angeles:20240116T173000
DTEND;TZID=America/Los_Angeles:20240116T193000
DTSTAMP:20260425T145813
CREATED:20231228T193217Z
LAST-MODIFIED:20231228T193302Z
UID:3220-1705426200-1705433400@ala291.com
SUMMARY:Line Dancing
DESCRIPTION:
URL:https://ala291.com/event/line-dancing-2-2-2-2-3-2-2-3-2/
CATEGORIES:Fun
ATTACH;FMTTYPE=image/jpeg:https://ala291.com/wp-content/uploads/2022/08/Line-Dancing-web.jpg
END:VEVENT
BEGIN:VEVENT
DTSTART;TZID=America/Los_Angeles:20240109T173000
DTEND;TZID=America/Los_Angeles:20240109T193000
DTSTAMP:20260425T145813
CREATED:20231228T193414Z
LAST-MODIFIED:20231228T193457Z
UID:3241-1704821400-1704828600@ala291.com
SUMMARY:Swing Dancing
DESCRIPTION:
URL:https://ala291.com/event/line-dancing-2-2-2-2-2-2-2-2-2-3/
CATEGORIES:Fun
ATTACH;FMTTYPE=image/jpeg:https://ala291.com/wp-content/uploads/2023/02/Swing-Dancing-Flyer-2023.jpg
END:VEVENT
BEGIN:VEVENT
DTSTART;TZID=America/Los_Angeles:20240102T173000
DTEND;TZID=America/Los_Angeles:20240102T193000
DTSTAMP:20260425T145813
CREATED:20231228T193134Z
LAST-MODIFIED:20231228T193217Z
UID:3213-1704216600-1704223800@ala291.com
SUMMARY:Line Dancing
DESCRIPTION:
URL:https://ala291.com/event/line-dancing-2-2-2-2-3-2-2-3/
CATEGORIES:Fun
ATTACH;FMTTYPE=image/jpeg:https://ala291.com/wp-content/uploads/2022/08/Line-Dancing-web.jpg
END:VEVENT
BEGIN:VEVENT
DTSTART;TZID=America/Los_Angeles:20231231T190000
DTEND;TZID=America/Los_Angeles:20240101T010000
DTSTAMP:20260425T145813
CREATED:20231128T203734Z
LAST-MODIFIED:20231128T203734Z
UID:3140-1704049200-1704070800@ala291.com
SUMMARY:New Years Eve
DESCRIPTION:
URL:https://ala291.com/event/new-years-eve/
CATEGORIES:Fun,Holiday
ATTACH;FMTTYPE=image/jpeg:https://ala291.com/wp-content/uploads/2023/11/Happy-New-Year.jpg
END:VEVENT
BEGIN:VEVENT
DTSTART;TZID=America/Los_Angeles:20231226T173000
DTEND;TZID=America/Los_Angeles:20231226T193000
DTSTAMP:20260425T145813
CREATED:20231010T210757Z
LAST-MODIFIED:20231106T160307Z
UID:3044-1703611800-1703619000@ala291.com
SUMMARY:Swing Dancing Cancelled
DESCRIPTION:
URL:https://ala291.com/event/line-dancing-2-2-2-2-2-2-2-2-2-2-2/
CATEGORIES:Fun
ATTACH;FMTTYPE=image/jpeg:https://ala291.com/wp-content/uploads/2023/11/Holiday-Schedule-for-dances.jpg
END:VEVENT
BEGIN:VEVENT
DTSTART;TZID=America/Los_Angeles:20231225T103000
DTEND;TZID=America/Los_Angeles:20231225T150000
DTSTAMP:20260425T145813
CREATED:20231126T200131Z
LAST-MODIFIED:20231126T200315Z
UID:3110-1703500200-1703516400@ala291.com
SUMMARY:Christmas Dinner
DESCRIPTION:Reservations from 10:30 am – 1:00 pm
URL:https://ala291.com/event/christmas-dinner/
CATEGORIES:Holiday
ATTACH;FMTTYPE=image/jpeg:https://ala291.com/wp-content/uploads/2023/11/Christmas2023.jpg
END:VEVENT
BEGIN:VEVENT
DTSTART;TZID=America/Los_Angeles:20231220T180000
DTEND;TZID=America/Los_Angeles:20231220T193000
DTSTAMP:20260425T145813
CREATED:20230905T165036Z
LAST-MODIFIED:20231128T193657Z
UID:2839-1703095200-1703100600@ala291.com
SUMMARY:December No General Meeting
DESCRIPTION: 
URL:https://ala291.com/event/general-meeting-14-2-2-2-2-2-2-2/
LOCATION:Main Hall
CATEGORIES:Meetings
ATTACH;FMTTYPE=image/jpeg:https://ala291.com/wp-content/uploads/2023/11/General-Meeting-Ala-Flyer-Dec.jpg
ORGANIZER;CN="Cindy Edes":MAILTO:cindyedes291@gmail.com
END:VEVENT
BEGIN:VEVENT
DTSTART;TZID=America/Los_Angeles:20231219T173000
DTEND;TZID=America/Los_Angeles:20231219T193000
DTSTAMP:20260425T145813
CREATED:20231010T205143Z
LAST-MODIFIED:20231106T160339Z
UID:2994-1703007000-1703014200@ala291.com
SUMMARY:Line Dancing Cancelled
DESCRIPTION:
URL:https://ala291.com/event/line-dancing-2-2-2-2-3-2-2-2-2/
CATEGORIES:Fun
ATTACH;FMTTYPE=image/jpeg:https://ala291.com/wp-content/uploads/2023/11/Holiday-Schedule-for-dances.jpg
END:VEVENT
BEGIN:VEVENT
DTSTART;TZID=America/Los_Angeles:20231213T170000
DTEND;TZID=America/Los_Angeles:20231217T200000
DTSTAMP:20260425T145813
CREATED:20231126T201015Z
LAST-MODIFIED:20231126T202504Z
UID:3122-1702486800-1702843200@ala291.com
SUMMARY:Boat Parade
DESCRIPTION:MAIN HALL\nDinner served between 5:00 – 8:00 pm\nBoat Parade passes by at 6:45 pm
URL:https://ala291.com/event/boat-parade/
ATTACH;FMTTYPE=image/jpeg:https://ala291.com/wp-content/uploads/2023/11/Boat-Parade-2023.jpg
END:VEVENT
BEGIN:VEVENT
DTSTART;TZID=America/Los_Angeles:20231212T173000
DTEND;TZID=America/Los_Angeles:20231212T193000
DTSTAMP:20260425T145813
CREATED:20231010T210349Z
LAST-MODIFIED:20231106T160421Z
UID:3036-1702402200-1702409400@ala291.com
SUMMARY:Swing Dancing Cancelled
DESCRIPTION:
URL:https://ala291.com/event/line-dancing-2-2-2-2-2-2-2-2-2-2/
CATEGORIES:Fun
ATTACH;FMTTYPE=image/jpeg:https://ala291.com/wp-content/uploads/2023/11/Holiday-Schedule-for-dances.jpg
END:VEVENT
BEGIN:VEVENT
DTSTART;TZID=America/Los_Angeles:20231205T173000
DTEND;TZID=America/Los_Angeles:20231205T193000
DTSTAMP:20260425T145813
CREATED:20231010T205110Z
LAST-MODIFIED:20231106T160214Z
UID:2987-1701797400-1701804600@ala291.com
SUMMARY:Line Dancing Cancelled
DESCRIPTION:
URL:https://ala291.com/event/line-dancing-2-2-2-2-3-2-2-2/
CATEGORIES:Fun
ATTACH;FMTTYPE=image/jpeg:https://ala291.com/wp-content/uploads/2023/11/Holiday-Schedule-for-dances.jpg
END:VEVENT
BEGIN:VEVENT
DTSTART;TZID=America/Los_Angeles:20231128T173000
DTEND;TZID=America/Los_Angeles:20231128T193000
DTSTAMP:20260425T145813
CREATED:20231010T205852Z
LAST-MODIFIED:20231228T193413Z
UID:3027-1701192600-1701199800@ala291.com
SUMMARY:Swing Dancing
DESCRIPTION:
URL:https://ala291.com/event/line-dancing-2-2-2-2-2-2-2-2-2/
CATEGORIES:Fun
ATTACH;FMTTYPE=image/jpeg:https://ala291.com/wp-content/uploads/2023/02/Swing-Dancing-Flyer-2023.jpg
END:VEVENT
BEGIN:VEVENT
DTSTART;TZID=America/Los_Angeles:20231123T103000
DTEND;TZID=America/Los_Angeles:20231123T130000
DTSTAMP:20260425T145813
CREATED:20231010T205546Z
LAST-MODIFIED:20231010T205613Z
UID:2999-1700735400-1700744400@ala291.com
SUMMARY:Thanksgiving
DESCRIPTION:
URL:https://ala291.com/event/thanksgiving/
CATEGORIES:Fun,Holiday
ATTACH;FMTTYPE=image/jpeg:https://ala291.com/wp-content/uploads/2023/10/Thanksgiving.jpg
END:VEVENT
BEGIN:VEVENT
DTSTART;TZID=America/Los_Angeles:20231121T173000
DTEND;TZID=America/Los_Angeles:20231121T193000
DTSTAMP:20260425T145813
CREATED:20231010T204848Z
LAST-MODIFIED:20231228T193134Z
UID:2980-1700587800-1700595000@ala291.com
SUMMARY:Line Dancing
DESCRIPTION:
URL:https://ala291.com/event/line-dancing-2-2-2-2-3-2-2/
CATEGORIES:Fun
ATTACH;FMTTYPE=image/jpeg:https://ala291.com/wp-content/uploads/2022/08/Line-Dancing-web.jpg
END:VEVENT
BEGIN:VEVENT
DTSTART;TZID=America/Los_Angeles:20231118T100000
DTEND;TZID=America/Los_Angeles:20231118T120000
DTSTAMP:20260425T145813
CREATED:20230921T172035Z
LAST-MODIFIED:20230921T172212Z
UID:2924-1700301600-1700308800@ala291.com
SUMMARY:Troop Shipping
DESCRIPTION:West Patio
URL:https://ala291.com/event/troop-shipping-3-2/
CATEGORIES:Donations Needed,Volunteer Opp
ATTACH;FMTTYPE=image/jpeg:https://ala291.com/wp-content/uploads/2023/09/23-Holiday-Troop-Shipping-Flyer.jpg
END:VEVENT
BEGIN:VEVENT
DTSTART;TZID=America/Los_Angeles:20231116T153000
DTEND;TZID=America/Los_Angeles:20231116T190000
DTSTAMP:20260425T145813
CREATED:20230921T172305Z
LAST-MODIFIED:20240221T191219Z
UID:2932-1700148600-1700161200@ala291.com
SUMMARY:Holiday Boutique
DESCRIPTION:
URL:https://ala291.com/event/holiday-boutique-3-2/
CATEGORIES:Fun
ATTACH;FMTTYPE=image/jpeg:https://ala291.com/wp-content/uploads/2023/09/Boutique-23-flyer.jpg
END:VEVENT
BEGIN:VEVENT
DTSTART;TZID=America/Los_Angeles:20231115T180000
DTEND;TZID=America/Los_Angeles:20231115T193000
DTSTAMP:20260425T145813
CREATED:20230905T164902Z
LAST-MODIFIED:20231228T192026Z
UID:2830-1700071200-1700076600@ala291.com
SUMMARY:General Meeting!
DESCRIPTION: 
URL:https://ala291.com/event/general-meeting-14-2-2-2-2-2-2/
LOCATION:Main Hall
CATEGORIES:Meetings
ATTACH;FMTTYPE=image/jpeg:https://ala291.com/wp-content/uploads/2022/05/General-Meeting-Ala-Flyer.jpg
ORGANIZER;CN="Cindy Edes":MAILTO:cindyedes291@gmail.com
END:VEVENT
BEGIN:VEVENT
DTSTART;TZID=America/Los_Angeles:20231114T173000
DTEND;TZID=America/Los_Angeles:20231114T193000
DTSTAMP:20260425T145813
CREATED:20231010T205818Z
LAST-MODIFIED:20231010T205852Z
UID:3020-1699983000-1699990200@ala291.com
SUMMARY:Swing Dancing
DESCRIPTION:
URL:https://ala291.com/event/line-dancing-2-2-2-2-2-2-2-2/
CATEGORIES:Fun
ATTACH;FMTTYPE=image/jpeg:https://ala291.com/wp-content/uploads/2023/02/Swing-Dancing-Flyer-2023.jpg
END:VEVENT
BEGIN:VEVENT
DTSTART;TZID=America/Los_Angeles:20231107T173000
DTEND;TZID=America/Los_Angeles:20231107T193000
DTSTAMP:20260425T145813
CREATED:20231010T204734Z
LAST-MODIFIED:20231010T204848Z
UID:2973-1699378200-1699385400@ala291.com
SUMMARY:Line Dancing
DESCRIPTION:
URL:https://ala291.com/event/line-dancing-2-2-2-2-3-2/
CATEGORIES:Fun
ATTACH;FMTTYPE=image/jpeg:https://ala291.com/wp-content/uploads/2022/08/Line-Dancing-web.jpg
END:VEVENT
BEGIN:VEVENT
DTSTART;TZID=America/Los_Angeles:20231106T110000
DTEND;TZID=America/Los_Angeles:20231106T110000
DTSTAMP:20260425T145813
CREATED:20221031T205426Z
LAST-MODIFIED:20231031T191319Z
UID:2004-1699268400-1699268400@ala291.com
SUMMARY:Envelope Stuffing
DESCRIPTION:Main Hall
URL:https://ala291.com/event/envelope-stuffing/
CATEGORIES:Volunteer Opp
ATTACH;FMTTYPE=image/jpeg:https://ala291.com/wp-content/uploads/2021/09/envelope.jpeg
END:VEVENT
END:VCALENDAR