BEGIN:VCALENDAR
VERSION:2.0
PRODID:-//American Legion Auxiliary Unit 291 Newport Harbor - ECPv6.15.20//NONSGML v1.0//EN
CALSCALE:GREGORIAN
METHOD:PUBLISH
X-ORIGINAL-URL:https://ala291.com
X-WR-CALDESC:Events for American Legion Auxiliary Unit 291 Newport Harbor
REFRESH-INTERVAL;VALUE=DURATION:PT1H
X-Robots-Tag:noindex
X-PUBLISHED-TTL:PT1H
BEGIN:VTIMEZONE
TZID:America/Los_Angeles
BEGIN:DAYLIGHT
TZOFFSETFROM:-0800
TZOFFSETTO:-0700
TZNAME:PDT
DTSTART:20240310T100000
END:DAYLIGHT
BEGIN:STANDARD
TZOFFSETFROM:-0700
TZOFFSETTO:-0800
TZNAME:PST
DTSTART:20241103T090000
END:STANDARD
BEGIN:DAYLIGHT
TZOFFSETFROM:-0800
TZOFFSETTO:-0700
TZNAME:PDT
DTSTART:20250309T100000
END:DAYLIGHT
BEGIN:STANDARD
TZOFFSETFROM:-0700
TZOFFSETTO:-0800
TZNAME:PST
DTSTART:20251102T090000
END:STANDARD
BEGIN:DAYLIGHT
TZOFFSETFROM:-0800
TZOFFSETTO:-0700
TZNAME:PDT
DTSTART:20260308T100000
END:DAYLIGHT
BEGIN:STANDARD
TZOFFSETFROM:-0700
TZOFFSETTO:-0800
TZNAME:PST
DTSTART:20261101T090000
END:STANDARD
BEGIN:DAYLIGHT
TZOFFSETFROM:-0800
TZOFFSETTO:-0700
TZNAME:PDT
DTSTART:20270314T100000
END:DAYLIGHT
BEGIN:STANDARD
TZOFFSETFROM:-0700
TZOFFSETTO:-0800
TZNAME:PST
DTSTART:20271107T090000
END:STANDARD
END:VTIMEZONE
BEGIN:VEVENT
DTSTART;VALUE=DATE:20251207
DTEND;VALUE=DATE:20251208
DTSTAMP:20260425T063313
CREATED:20251018T161916Z
LAST-MODIFIED:20251018T161916Z
UID:7557-1765065600-1765151999@ala291.com
SUMMARY:Go to the Home page and click on the Volunteer Block
DESCRIPTION:
URL:https://ala291.com/event/go-to-the-home-page-and-click-on-the-volunteer-block-4/
CATEGORIES:Volunteer Opp
END:VEVENT
BEGIN:VEVENT
DTSTART;TZID=America/Los_Angeles:20251207T110000
DTEND;TZID=America/Los_Angeles:20251207T130000
DTSTAMP:20260425T063313
CREATED:20251018T162132Z
LAST-MODIFIED:20251018T162533Z
UID:7560-1765105200-1765112400@ala291.com
SUMMARY:Children's Christmas Party
DESCRIPTION:
URL:https://ala291.com/event/childrens-christmas-party/
CATEGORIES:Fun,Holiday,Volunteer Opp
ATTACH;FMTTYPE=image/jpeg:https://ala291.com/wp-content/uploads/2025/10/Children-Christmas-Party.jpg
END:VEVENT
BEGIN:VEVENT
DTSTART;TZID=America/Los_Angeles:20251217T180000
DTEND;TZID=America/Los_Angeles:20251217T200000
DTSTAMP:20260425T063313
CREATED:20250129T161459Z
LAST-MODIFIED:20250129T161736Z
UID:5525-1765994400-1766001600@ala291.com
SUMMARY:No Meeting in December
DESCRIPTION:
URL:https://ala291.com/event/no-meeting-in-december/
ATTACH;FMTTYPE=image/jpeg:https://ala291.com/wp-content/uploads/2024/12/ALA-no-meeting.jpg
END:VEVENT
BEGIN:VEVENT
DTSTART;TZID=America/Los_Angeles:20260121T180000
DTEND;TZID=America/Los_Angeles:20260121T200000
DTSTAMP:20260425T063313
CREATED:20260113T203308Z
LAST-MODIFIED:20260114T000129Z
UID:8235-1769018400-1769025600@ala291.com
SUMMARY:General Meeting - Event
DESCRIPTION:
URL:https://ala291.com/event/general-meeting-event-2/
CATEGORIES:Meetings
ATTACH;FMTTYPE=image/jpeg:https://ala291.com/wp-content/uploads/2024/08/ALA-General-Meeting-1.jpg
END:VEVENT
BEGIN:VEVENT
DTSTART;TZID=America/Los_Angeles:20260216T100000
DTEND;TZID=America/Los_Angeles:20260216T160000
DTSTAMP:20260425T063313
CREATED:20250902T203250Z
LAST-MODIFIED:20260207T152340Z
UID:6706-1771236000-1771257600@ala291.com
SUMMARY:Blood Drive
DESCRIPTION:American Red Cross Blood Drive\, 10am – 4pm.\nTo schedule your appointment contact Susan DiFonzo at susandifonzo1@gmail.com
URL:https://ala291.com/event/blood-drive-4/
ATTACH;FMTTYPE=image/png:https://ala291.com/wp-content/uploads/2026/01/Blood-Drive-flyer.png
END:VEVENT
BEGIN:VEVENT
DTSTART;TZID=America/Los_Angeles:20260218T180000
DTEND;TZID=America/Los_Angeles:20260218T200000
DTSTAMP:20260425T063313
CREATED:20260113T203157Z
LAST-MODIFIED:20260113T203244Z
UID:8229-1771437600-1771444800@ala291.com
SUMMARY:General Meeting - Event
DESCRIPTION:
URL:https://ala291.com/event/general-meeting-event/
CATEGORIES:Meetings
ATTACH;FMTTYPE=image/jpeg:https://ala291.com/wp-content/uploads/2024/08/ALA-General-Meeting-1.jpg
END:VEVENT
BEGIN:VEVENT
DTSTART;TZID=America/Los_Angeles:20260307T170000
DTEND;TZID=America/Los_Angeles:20260307T220000
DTSTAMP:20260425T063313
CREATED:20260207T151959Z
LAST-MODIFIED:20260207T163601Z
UID:8438-1772902800-1772920800@ala291.com
SUMMARY:Palm Royale Party
DESCRIPTION:
URL:https://ala291.com/event/palm-royal/
CATEGORIES:Fun
ATTACH;FMTTYPE=image/jpeg:https://ala291.com/wp-content/uploads/2026/02/Palm-Royale_print-flyer.jpg
END:VEVENT
BEGIN:VEVENT
DTSTART;TZID=America/Los_Angeles:20260318T180000
DTEND;TZID=America/Los_Angeles:20260318T200000
DTSTAMP:20260425T063313
CREATED:20260113T203414Z
LAST-MODIFIED:20260113T203444Z
UID:8240-1773856800-1773864000@ala291.com
SUMMARY:General Meeting - Event
DESCRIPTION:
URL:https://ala291.com/event/general-meeting-event-3/
CATEGORIES:Meetings
ATTACH;FMTTYPE=image/jpeg:https://ala291.com/wp-content/uploads/2024/08/ALA-General-Meeting-1.jpg
END:VEVENT
BEGIN:VEVENT
DTSTART;TZID=America/Los_Angeles:20260415T180000
DTEND;TZID=America/Los_Angeles:20260415T200000
DTSTAMP:20260425T063313
CREATED:20260113T203502Z
LAST-MODIFIED:20260113T203517Z
UID:8246-1776276000-1776283200@ala291.com
SUMMARY:General Meeting - Event
DESCRIPTION:
URL:https://ala291.com/event/general-meeting-event-4/
CATEGORIES:Meetings
ATTACH;FMTTYPE=image/jpeg:https://ala291.com/wp-content/uploads/2024/08/ALA-General-Meeting-1.jpg
END:VEVENT
BEGIN:VEVENT
DTSTART;TZID=America/Los_Angeles:20260518T180000
DTEND;TZID=America/Los_Angeles:20260518T180000
DTSTAMP:20260425T063313
CREATED:20260211T161304Z
LAST-MODIFIED:20260211T162225Z
UID:8485-1779127200-1779127200@ala291.com
SUMMARY:Salute to Service
DESCRIPTION:
URL:https://ala291.com/event/salute-to-service-3/
ATTACH;FMTTYPE=image/jpeg:https://ala291.com/wp-content/uploads/2026/02/2026_Salute_to_Service-flyer.jpg
END:VEVENT
BEGIN:VEVENT
DTSTART;TZID=America/Los_Angeles:20260520T180000
DTEND;TZID=America/Los_Angeles:20260520T200000
DTSTAMP:20260425T063313
CREATED:20260113T203540Z
LAST-MODIFIED:20260113T203540Z
UID:8252-1779300000-1779307200@ala291.com
SUMMARY:General Meeting - Event
DESCRIPTION:
URL:https://ala291.com/event/general-meeting-event-5/
CATEGORIES:Meetings
ATTACH;FMTTYPE=image/jpeg:https://ala291.com/wp-content/uploads/2024/08/ALA-General-Meeting-1.jpg
END:VEVENT
END:VCALENDAR