BEGIN:VCALENDAR
VERSION:2.0
PRODID:-//American Legion Auxiliary Unit 291 Newport Harbor - ECPv6.15.20//NONSGML v1.0//EN
CALSCALE:GREGORIAN
METHOD:PUBLISH
X-ORIGINAL-URL:https://ala291.com
X-WR-CALDESC:Events for American Legion Auxiliary Unit 291 Newport Harbor
REFRESH-INTERVAL;VALUE=DURATION:PT1H
X-Robots-Tag:noindex
X-PUBLISHED-TTL:PT1H
BEGIN:VTIMEZONE
TZID:America/Los_Angeles
BEGIN:DAYLIGHT
TZOFFSETFROM:-0800
TZOFFSETTO:-0700
TZNAME:PDT
DTSTART:20220313T100000
END:DAYLIGHT
BEGIN:STANDARD
TZOFFSETFROM:-0700
TZOFFSETTO:-0800
TZNAME:PST
DTSTART:20221106T090000
END:STANDARD
BEGIN:DAYLIGHT
TZOFFSETFROM:-0800
TZOFFSETTO:-0700
TZNAME:PDT
DTSTART:20230312T100000
END:DAYLIGHT
BEGIN:STANDARD
TZOFFSETFROM:-0700
TZOFFSETTO:-0800
TZNAME:PST
DTSTART:20231105T090000
END:STANDARD
BEGIN:DAYLIGHT
TZOFFSETFROM:-0800
TZOFFSETTO:-0700
TZNAME:PDT
DTSTART:20240310T100000
END:DAYLIGHT
BEGIN:STANDARD
TZOFFSETFROM:-0700
TZOFFSETTO:-0800
TZNAME:PST
DTSTART:20241103T090000
END:STANDARD
BEGIN:DAYLIGHT
TZOFFSETFROM:-0800
TZOFFSETTO:-0700
TZNAME:PDT
DTSTART:20250309T100000
END:DAYLIGHT
BEGIN:STANDARD
TZOFFSETFROM:-0700
TZOFFSETTO:-0800
TZNAME:PST
DTSTART:20251102T090000
END:STANDARD
END:VTIMEZONE
BEGIN:VEVENT
DTSTART;TZID=America/Los_Angeles:20240311T180000
DTEND;TZID=America/Los_Angeles:20240311T200000
DTSTAMP:20260425T123835
CREATED:20240125T200533Z
LAST-MODIFIED:20240125T200617Z
UID:3304-1710180000-1710187200@ala291.com
SUMMARY:Executive Board Meeting
DESCRIPTION:Fireside Room
URL:https://ala291.com/event/executive-board-meeting-6-2/
CATEGORIES:Meetings
END:VEVENT
BEGIN:VEVENT
DTSTART;TZID=America/Los_Angeles:20240309T090000
DTEND;TZID=America/Los_Angeles:20240309T090000
DTSTAMP:20260425T123835
CREATED:20240221T182933Z
LAST-MODIFIED:20240221T183241Z
UID:3632-1709974800-1709974800@ala291.com
SUMMARY:District 29 Monthly Meeting - Cypress Post 295
DESCRIPTION:
URL:https://ala291.com/event/district-29-monthly-meeting-cypress-post-295-2-2/
CATEGORIES:Meetings
END:VEVENT
BEGIN:VEVENT
DTSTART;TZID=America/Los_Angeles:20240221T180000
DTEND;TZID=America/Los_Angeles:20240221T200000
DTSTAMP:20260425T123835
CREATED:20231228T192117Z
LAST-MODIFIED:20240125T203256Z
UID:3194-1708538400-1708545600@ala291.com
SUMMARY:General Meeting
DESCRIPTION: 
URL:https://ala291.com/event/general-meeting-14-2-2-2-2-2-2-3-2/
LOCATION:Main Hall
CATEGORIES:Meetings
ATTACH;FMTTYPE=image/jpeg:https://ala291.com/wp-content/uploads/2024/01/ALA-General-Meeting-Flyer-2.jpg
ORGANIZER;CN="Cindy Edes":MAILTO:cindyedes291@gmail.com
END:VEVENT
BEGIN:VEVENT
DTSTART;TZID=America/Los_Angeles:20240212T180000
DTEND;TZID=America/Los_Angeles:20240212T200000
DTSTAMP:20260425T123835
CREATED:20240125T200323Z
LAST-MODIFIED:20240125T200532Z
UID:3297-1707760800-1707768000@ala291.com
SUMMARY:Executive Board Meeting
DESCRIPTION:Fireside Room
URL:https://ala291.com/event/executive-board-meeting-6/
CATEGORIES:Meetings
END:VEVENT
BEGIN:VEVENT
DTSTART;TZID=America/Los_Angeles:20240211T090000
DTEND;TZID=America/Los_Angeles:20240211T090000
DTSTAMP:20260425T123835
CREATED:20240221T182808Z
LAST-MODIFIED:20240221T183201Z
UID:3624-1707642000-1707642000@ala291.com
SUMMARY:District 29 Monthly Meeting - Cypress Post 295
DESCRIPTION:
URL:https://ala291.com/event/district-29-monthly-meeting-cypress-post-295-2/
CATEGORIES:Meetings
END:VEVENT
BEGIN:VEVENT
DTSTART;TZID=America/Los_Angeles:20240204T170000
DTEND;TZID=America/Los_Angeles:20240204T220000
DTSTAMP:20260425T123835
CREATED:20240204T191027Z
LAST-MODIFIED:20240204T191027Z
UID:3422-1707066000-1707084000@ala291.com
SUMMARY:Salute to Service
DESCRIPTION:Main Hall
URL:https://ala291.com/event/salute-to-service/
CATEGORIES:Meetings
END:VEVENT
BEGIN:VEVENT
DTSTART;TZID=America/Los_Angeles:20240117T180000
DTEND;TZID=America/Los_Angeles:20240117T193000
DTSTAMP:20260425T123835
CREATED:20231228T192027Z
LAST-MODIFIED:20231228T192116Z
UID:3187-1705514400-1705519800@ala291.com
SUMMARY:General Meeting
DESCRIPTION: 
URL:https://ala291.com/event/general-meeting-14-2-2-2-2-2-2-3/
LOCATION:Main Hall
CATEGORIES:Meetings
ATTACH;FMTTYPE=image/jpeg:https://ala291.com/wp-content/uploads/2022/05/General-Meeting-Ala-Flyer.jpg
ORGANIZER;CN="Cindy Edes":MAILTO:cindyedes291@gmail.com
END:VEVENT
BEGIN:VEVENT
DTSTART;TZID=America/Los_Angeles:20231220T180000
DTEND;TZID=America/Los_Angeles:20231220T193000
DTSTAMP:20260425T123835
CREATED:20230905T165036Z
LAST-MODIFIED:20231128T193657Z
UID:2839-1703095200-1703100600@ala291.com
SUMMARY:December No General Meeting
DESCRIPTION: 
URL:https://ala291.com/event/general-meeting-14-2-2-2-2-2-2-2/
LOCATION:Main Hall
CATEGORIES:Meetings
ATTACH;FMTTYPE=image/jpeg:https://ala291.com/wp-content/uploads/2023/11/General-Meeting-Ala-Flyer-Dec.jpg
ORGANIZER;CN="Cindy Edes":MAILTO:cindyedes291@gmail.com
END:VEVENT
BEGIN:VEVENT
DTSTART;TZID=America/Los_Angeles:20231115T180000
DTEND;TZID=America/Los_Angeles:20231115T193000
DTSTAMP:20260425T123835
CREATED:20230905T164902Z
LAST-MODIFIED:20231228T192026Z
UID:2830-1700071200-1700076600@ala291.com
SUMMARY:General Meeting!
DESCRIPTION: 
URL:https://ala291.com/event/general-meeting-14-2-2-2-2-2-2/
LOCATION:Main Hall
CATEGORIES:Meetings
ATTACH;FMTTYPE=image/jpeg:https://ala291.com/wp-content/uploads/2022/05/General-Meeting-Ala-Flyer.jpg
ORGANIZER;CN="Cindy Edes":MAILTO:cindyedes291@gmail.com
END:VEVENT
BEGIN:VEVENT
DTSTART;TZID=America/Los_Angeles:20231018T180000
DTEND;TZID=America/Los_Angeles:20231018T193000
DTSTAMP:20260425T123835
CREATED:20230818T160224Z
LAST-MODIFIED:20230929T153536Z
UID:2800-1697652000-1697657400@ala291.com
SUMMARY:General Meeting!
DESCRIPTION:Membership Renewal\n1 hour before and after the General Membership Meeting  Debbie Schubert will be available to help members renew online. \n 
URL:https://ala291.com/event/general-meeting-14-2-2-2-2-2/
LOCATION:Main Hall
CATEGORIES:Meetings
ATTACH;FMTTYPE=image/jpeg:https://ala291.com/wp-content/uploads/2022/05/General-Meeting-Ala-Flyer.jpg
END:VEVENT
BEGIN:VEVENT
DTSTART;TZID=America/Los_Angeles:20230920T180000
DTEND;TZID=America/Los_Angeles:20230920T193000
DTSTAMP:20260425T123835
CREATED:20230816T232314Z
LAST-MODIFIED:20230818T160224Z
UID:2777-1695232800-1695238200@ala291.com
SUMMARY:General Meeting!
DESCRIPTION:NFL Tailgating Sunday Raffle\nDrawing will be held on September 20th\, 2023 at the Auxiliary General Meeting\nWinner doesn’t need to be present to Win!
URL:https://ala291.com/event/general-meeting-14-2-2-2-2/
LOCATION:Main Hall
CATEGORIES:Meetings
ATTACH;FMTTYPE=image/jpeg:https://ala291.com/wp-content/uploads/2022/05/General-Meeting-Ala-Flyer.jpg
ORGANIZER;CN="Cindy Edes":MAILTO:cindyedes291@gmail.com
END:VEVENT
BEGIN:VEVENT
DTSTART;TZID=America/Los_Angeles:20230816T180000
DTEND;TZID=America/Los_Angeles:20230816T193000
DTSTAMP:20260425T123835
CREATED:20230816T224705Z
LAST-MODIFIED:20230816T232314Z
UID:2770-1692208800-1692214200@ala291.com
SUMMARY:General Meeting!
DESCRIPTION:
URL:https://ala291.com/event/general-meeting-14-2-2-2/
LOCATION:Main Hall
CATEGORIES:Fun,Meetings,Volunteer Opp
ATTACH;FMTTYPE=image/jpeg:https://ala291.com/wp-content/uploads/2022/05/General-Meeting-Ala-Flyer.jpg
ORGANIZER;CN="Cindy Edes":MAILTO:cindyedes291@gmail.com
END:VEVENT
BEGIN:VEVENT
DTSTART;TZID=America/Los_Angeles:20230719T180000
DTEND;TZID=America/Los_Angeles:20230719T193000
DTSTAMP:20260425T123835
CREATED:20230628T215113Z
LAST-MODIFIED:20230816T224704Z
UID:2660-1689789600-1689795000@ala291.com
SUMMARY:General Meeting!
DESCRIPTION:
URL:https://ala291.com/event/general-meeting-14-2-2/
LOCATION:Main Hall
CATEGORIES:Fun,Meetings,Volunteer Opp
ATTACH;FMTTYPE=image/jpeg:https://ala291.com/wp-content/uploads/2022/05/General-Meeting-Ala-Flyer.jpg
ORGANIZER;CN="Cindy Edes":MAILTO:cindyedes291@gmail.com
END:VEVENT
BEGIN:VEVENT
DTSTART;TZID=America/Los_Angeles:20230713T180000
DTEND;TZID=America/Los_Angeles:20230713T193000
DTSTAMP:20260425T123835
CREATED:20230628T215239Z
LAST-MODIFIED:20230628T215320Z
UID:2667-1689271200-1689276600@ala291.com
SUMMARY:E-Board Meeting
DESCRIPTION:Fire Side Room
URL:https://ala291.com/event/e-board-meeting-2/
CATEGORIES:Meetings
END:VEVENT
BEGIN:VEVENT
DTSTART;TZID=America/Los_Angeles:20230621T180000
DTEND;TZID=America/Los_Angeles:20230621T193000
DTSTAMP:20260425T123835
CREATED:20230524T175124Z
LAST-MODIFIED:20230628T215112Z
UID:2607-1687370400-1687375800@ala291.com
SUMMARY:General Meeting!
DESCRIPTION:
URL:https://ala291.com/event/general-meeting-14-2/
LOCATION:Main Hall
CATEGORIES:Fun,Meetings,Volunteer Opp
ATTACH;FMTTYPE=image/jpeg:https://ala291.com/wp-content/uploads/2022/05/General-Meeting-Ala-Flyer.jpg
ORGANIZER;CN="Cindy Edes":MAILTO:cindyedes291@gmail.com
END:VEVENT
BEGIN:VEVENT
DTSTART;TZID=America/Los_Angeles:20230517T180000
DTEND;TZID=America/Los_Angeles:20230517T193000
DTSTAMP:20260425T123835
CREATED:20220524T162309Z
LAST-MODIFIED:20230501T154303Z
UID:1693-1684346400-1684351800@ala291.com
SUMMARY:Election of Officers - General Meeting
DESCRIPTION:
URL:https://ala291.com/event/general-meeting-15/
LOCATION:Main Hall
CATEGORIES:Fun,Meetings,Volunteer Opp
ATTACH;FMTTYPE=image/jpeg:https://ala291.com/wp-content/uploads/2022/05/General-Meeting-Ala-Flyer.jpg
ORGANIZER;CN="Cindy Edes":MAILTO:cindyedes291@gmail.com
END:VEVENT
BEGIN:VEVENT
DTSTART;TZID=America/Los_Angeles:20230511T180000
DTEND;TZID=America/Los_Angeles:20230511T193000
DTSTAMP:20260425T123835
CREATED:20230501T151404Z
LAST-MODIFIED:20230628T215239Z
UID:2531-1683828000-1683833400@ala291.com
SUMMARY:E-Board Meeting
DESCRIPTION:Fire Side Room
URL:https://ala291.com/event/e-board-meeting/
CATEGORIES:Meetings
END:VEVENT
END:VCALENDAR