BEGIN:VCALENDAR
VERSION:2.0
PRODID:-//American Legion Auxiliary Unit 291 Newport Harbor - ECPv6.15.20//NONSGML v1.0//EN
CALSCALE:GREGORIAN
METHOD:PUBLISH
X-ORIGINAL-URL:https://ala291.com
X-WR-CALDESC:Events for American Legion Auxiliary Unit 291 Newport Harbor
REFRESH-INTERVAL;VALUE=DURATION:PT1H
X-Robots-Tag:noindex
X-PUBLISHED-TTL:PT1H
BEGIN:VTIMEZONE
TZID:America/Los_Angeles
BEGIN:DAYLIGHT
TZOFFSETFROM:-0800
TZOFFSETTO:-0700
TZNAME:PDT
DTSTART:20220313T100000
END:DAYLIGHT
BEGIN:STANDARD
TZOFFSETFROM:-0700
TZOFFSETTO:-0800
TZNAME:PST
DTSTART:20221106T090000
END:STANDARD
BEGIN:DAYLIGHT
TZOFFSETFROM:-0800
TZOFFSETTO:-0700
TZNAME:PDT
DTSTART:20230312T100000
END:DAYLIGHT
BEGIN:STANDARD
TZOFFSETFROM:-0700
TZOFFSETTO:-0800
TZNAME:PST
DTSTART:20231105T090000
END:STANDARD
BEGIN:DAYLIGHT
TZOFFSETFROM:-0800
TZOFFSETTO:-0700
TZNAME:PDT
DTSTART:20240310T100000
END:DAYLIGHT
BEGIN:STANDARD
TZOFFSETFROM:-0700
TZOFFSETTO:-0800
TZNAME:PST
DTSTART:20241103T090000
END:STANDARD
END:VTIMEZONE
BEGIN:VEVENT
DTSTART;TZID=America/Los_Angeles:20231024T173000
DTEND;TZID=America/Los_Angeles:20231024T193000
DTSTAMP:20260423T203006
CREATED:20231010T205746Z
LAST-MODIFIED:20231010T205817Z
UID:3013-1698168600-1698175800@ala291.com
SUMMARY:Swing Dancing
DESCRIPTION:
URL:https://ala291.com/event/line-dancing-2-2-2-2-2-2-2/
CATEGORIES:Fun
ATTACH;FMTTYPE=image/jpeg:https://ala291.com/wp-content/uploads/2023/02/Swing-Dancing-Flyer-2023.jpg
END:VEVENT
BEGIN:VEVENT
DTSTART;TZID=America/Los_Angeles:20231017T173000
DTEND;TZID=America/Los_Angeles:20231017T193000
DTSTAMP:20260423T203006
CREATED:20231010T204617Z
LAST-MODIFIED:20231010T204734Z
UID:2966-1697563800-1697571000@ala291.com
SUMMARY:Line Dancing
DESCRIPTION:
URL:https://ala291.com/event/line-dancing-2-2-2-2-3/
CATEGORIES:Fun
ATTACH;FMTTYPE=image/jpeg:https://ala291.com/wp-content/uploads/2022/08/Line-Dancing-web.jpg
END:VEVENT
BEGIN:VEVENT
DTSTART;TZID=America/Los_Angeles:20231010T173000
DTEND;TZID=America/Los_Angeles:20231010T193000
DTSTAMP:20260423T203006
CREATED:20231010T205657Z
LAST-MODIFIED:20231010T205746Z
UID:3006-1696959000-1696966200@ala291.com
SUMMARY:Swing Dancing
DESCRIPTION:
URL:https://ala291.com/event/line-dancing-2-2-2-2-2-2/
CATEGORIES:Fun
ATTACH;FMTTYPE=image/jpeg:https://ala291.com/wp-content/uploads/2023/02/Swing-Dancing-Flyer-2023.jpg
END:VEVENT
BEGIN:VEVENT
DTSTART;TZID=America/Los_Angeles:20230816T180000
DTEND;TZID=America/Los_Angeles:20230816T193000
DTSTAMP:20260423T203006
CREATED:20230816T224705Z
LAST-MODIFIED:20230816T232314Z
UID:2770-1692208800-1692214200@ala291.com
SUMMARY:General Meeting!
DESCRIPTION:
URL:https://ala291.com/event/general-meeting-14-2-2-2/
LOCATION:Main Hall
CATEGORIES:Fun,Meetings,Volunteer Opp
ATTACH;FMTTYPE=image/jpeg:https://ala291.com/wp-content/uploads/2022/05/General-Meeting-Ala-Flyer.jpg
ORGANIZER;CN="Cindy Edes":MAILTO:cindyedes291@gmail.com
END:VEVENT
BEGIN:VEVENT
DTSTART;TZID=America/Los_Angeles:20230725T173000
DTEND;TZID=America/Los_Angeles:20230725T193000
DTSTAMP:20260423T203006
CREATED:20230628T220138Z
LAST-MODIFIED:20231010T205657Z
UID:2694-1690306200-1690313400@ala291.com
SUMMARY:Swing Dancing
DESCRIPTION:
URL:https://ala291.com/event/line-dancing-2-2-2-2-2/
CATEGORIES:Fun
ATTACH;FMTTYPE=image/jpeg:https://ala291.com/wp-content/uploads/2023/02/Swing-Dancing-Flyer-2023.jpg
END:VEVENT
BEGIN:VEVENT
DTSTART;TZID=America/Los_Angeles:20230719T180000
DTEND;TZID=America/Los_Angeles:20230719T193000
DTSTAMP:20260423T203006
CREATED:20230628T215113Z
LAST-MODIFIED:20230816T224704Z
UID:2660-1689789600-1689795000@ala291.com
SUMMARY:General Meeting!
DESCRIPTION:
URL:https://ala291.com/event/general-meeting-14-2-2/
LOCATION:Main Hall
CATEGORIES:Fun,Meetings,Volunteer Opp
ATTACH;FMTTYPE=image/jpeg:https://ala291.com/wp-content/uploads/2022/05/General-Meeting-Ala-Flyer.jpg
ORGANIZER;CN="Cindy Edes":MAILTO:cindyedes291@gmail.com
END:VEVENT
BEGIN:VEVENT
DTSTART;TZID=America/Los_Angeles:20230718T173000
DTEND;TZID=America/Los_Angeles:20230718T193000
DTSTAMP:20260423T203006
CREATED:20230628T215343Z
LAST-MODIFIED:20231010T204617Z
UID:2675-1689701400-1689708600@ala291.com
SUMMARY:Line Dancing
DESCRIPTION:
URL:https://ala291.com/event/line-dancing-2-2-2-2/
CATEGORIES:Fun
ATTACH;FMTTYPE=image/jpeg:https://ala291.com/wp-content/uploads/2022/08/Line-Dancing-web.jpg
END:VEVENT
BEGIN:VEVENT
DTSTART;TZID=America/Los_Angeles:20230711T173000
DTEND;TZID=America/Los_Angeles:20230711T193000
DTSTAMP:20260423T203006
CREATED:20230628T215427Z
LAST-MODIFIED:20230628T215458Z
UID:2682-1689096600-1689103800@ala291.com
SUMMARY:Swing Dance
DESCRIPTION:
URL:https://ala291.com/event/swing-dance-2-2/
CATEGORIES:Fun
ATTACH;FMTTYPE=image/jpeg:https://ala291.com/wp-content/uploads/2023/02/Swing-Dancing-Flyer-2023.jpg
END:VEVENT
BEGIN:VEVENT
DTSTART;TZID=America/Los_Angeles:20230704T070000
DTEND;TZID=America/Los_Angeles:20230704T170000
DTSTAMP:20260423T203006
CREATED:20230628T215755Z
LAST-MODIFIED:20230628T220650Z
UID:2686-1688454000-1688490000@ala291.com
SUMMARY:Independence Day - 4th of July
DESCRIPTION:Pancake Breakfast 7:00am- 11:00am\nBarbecue Noon – 5:00 pm\nALYC – All Glory Boat Parade 1:00pm – 3:30pm\nLive Music with M Street Band 1:00pm – 5:00pm
URL:https://ala291.com/event/independence-day-4th-of-july/
CATEGORIES:Fun,Holiday
ATTACH;FMTTYPE=image/jpeg:https://ala291.com/wp-content/uploads/2023/06/4th-July-Flyer-web.jpg
END:VEVENT
BEGIN:VEVENT
DTSTART;TZID=America/Los_Angeles:20230621T180000
DTEND;TZID=America/Los_Angeles:20230621T193000
DTSTAMP:20260423T203006
CREATED:20230524T175124Z
LAST-MODIFIED:20230628T215112Z
UID:2607-1687370400-1687375800@ala291.com
SUMMARY:General Meeting!
DESCRIPTION:
URL:https://ala291.com/event/general-meeting-14-2/
LOCATION:Main Hall
CATEGORIES:Fun,Meetings,Volunteer Opp
ATTACH;FMTTYPE=image/jpeg:https://ala291.com/wp-content/uploads/2022/05/General-Meeting-Ala-Flyer.jpg
ORGANIZER;CN="Cindy Edes":MAILTO:cindyedes291@gmail.com
END:VEVENT
BEGIN:VEVENT
DTSTART;TZID=America/Los_Angeles:20230520T173000
DTEND;TZID=America/Los_Angeles:20230520T193000
DTSTAMP:20260423T203006
CREATED:20230501T152158Z
LAST-MODIFIED:20230501T154205Z
UID:2540-1684603800-1684611000@ala291.com
SUMMARY:New Member Social
DESCRIPTION:West Patio
URL:https://ala291.com/event/new-member-social-3-2/
CATEGORIES:Fun
END:VEVENT
BEGIN:VEVENT
DTSTART;TZID=America/Los_Angeles:20230517T180000
DTEND;TZID=America/Los_Angeles:20230517T193000
DTSTAMP:20260423T203006
CREATED:20220524T162309Z
LAST-MODIFIED:20230501T154303Z
UID:1693-1684346400-1684351800@ala291.com
SUMMARY:Election of Officers - General Meeting
DESCRIPTION:
URL:https://ala291.com/event/general-meeting-15/
LOCATION:Main Hall
CATEGORIES:Fun,Meetings,Volunteer Opp
ATTACH;FMTTYPE=image/jpeg:https://ala291.com/wp-content/uploads/2022/05/General-Meeting-Ala-Flyer.jpg
ORGANIZER;CN="Cindy Edes":MAILTO:cindyedes291@gmail.com
END:VEVENT
BEGIN:VEVENT
DTSTART;TZID=America/Los_Angeles:20230516T173000
DTEND;TZID=America/Los_Angeles:20230516T193000
DTSTAMP:20260423T203006
CREATED:20230501T150323Z
LAST-MODIFIED:20230628T215342Z
UID:2520-1684258200-1684265400@ala291.com
SUMMARY:Line Dancing
DESCRIPTION:
URL:https://ala291.com/event/line-dancing-2-2-2/
CATEGORIES:Fun
ATTACH;FMTTYPE=image/jpeg:https://ala291.com/wp-content/uploads/2022/08/Line-Dancing-web.jpg
END:VEVENT
BEGIN:VEVENT
DTSTART;TZID=America/Los_Angeles:20230506T050000
DTEND;TZID=America/Los_Angeles:20230506T220000
DTSTAMP:20260423T203006
CREATED:20230501T150536Z
LAST-MODIFIED:20230501T150622Z
UID:2525-1683349200-1683410400@ala291.com
SUMMARY:Summer Kick Off Luau Party
DESCRIPTION:
URL:https://ala291.com/event/summer-kick-off-luau-party/
CATEGORIES:Fun
ATTACH;FMTTYPE=image/jpeg:https://ala291.com/wp-content/uploads/2023/04/Luau-Party.jpg
END:VEVENT
BEGIN:VEVENT
DTSTART;TZID=America/Los_Angeles:20230502T173000
DTEND;TZID=America/Los_Angeles:20230502T193000
DTSTAMP:20260423T203006
CREATED:20230501T150237Z
LAST-MODIFIED:20230501T150323Z
UID:2513-1683048600-1683055800@ala291.com
SUMMARY:Line Dancing
DESCRIPTION:
URL:https://ala291.com/event/line-dancing-2-2/
CATEGORIES:Fun
ATTACH;FMTTYPE=image/jpeg:https://ala291.com/wp-content/uploads/2022/08/Line-Dancing-web.jpg
END:VEVENT
BEGIN:VEVENT
DTSTART;TZID=America/Los_Angeles:20230429T110000
DTEND;TZID=America/Los_Angeles:20230429T120000
DTSTAMP:20260423T203006
CREATED:20230405T033948Z
LAST-MODIFIED:20230405T033948Z
UID:2440-1682766000-1682769600@ala291.com
SUMMARY:Children's Party
DESCRIPTION:Cottonwood Church in Los Alamitos\nContact Bea Foster for information 21lifeisgreat@gmail.com
URL:https://ala291.com/event/childrens-party/
CATEGORIES:Fun
END:VEVENT
BEGIN:VEVENT
DTSTART;TZID=America/Los_Angeles:20230425T173000
DTEND;TZID=America/Los_Angeles:20230425T193000
DTSTAMP:20260423T203006
CREATED:20230405T032917Z
LAST-MODIFIED:20230628T215427Z
UID:2427-1682443800-1682451000@ala291.com
SUMMARY:Swing Dance
DESCRIPTION:
URL:https://ala291.com/event/swing-dance-2/
CATEGORIES:Fun
ATTACH;FMTTYPE=image/jpeg:https://ala291.com/wp-content/uploads/2023/02/Swing-Dancing-Flyer-2023.jpg
END:VEVENT
END:VCALENDAR