BEGIN:VCALENDAR
VERSION:2.0
PRODID:-//American Legion Auxiliary Unit 291 Newport Harbor - ECPv6.15.20//NONSGML v1.0//EN
CALSCALE:GREGORIAN
METHOD:PUBLISH
X-ORIGINAL-URL:https://ala291.com
X-WR-CALDESC:Events for American Legion Auxiliary Unit 291 Newport Harbor
REFRESH-INTERVAL;VALUE=DURATION:PT1H
X-Robots-Tag:noindex
X-PUBLISHED-TTL:PT1H
BEGIN:VTIMEZONE
TZID:America/Los_Angeles
BEGIN:DAYLIGHT
TZOFFSETFROM:-0800
TZOFFSETTO:-0700
TZNAME:PDT
DTSTART:20230312T100000
END:DAYLIGHT
BEGIN:STANDARD
TZOFFSETFROM:-0700
TZOFFSETTO:-0800
TZNAME:PST
DTSTART:20231105T090000
END:STANDARD
BEGIN:DAYLIGHT
TZOFFSETFROM:-0800
TZOFFSETTO:-0700
TZNAME:PDT
DTSTART:20240310T100000
END:DAYLIGHT
BEGIN:STANDARD
TZOFFSETFROM:-0700
TZOFFSETTO:-0800
TZNAME:PST
DTSTART:20241103T090000
END:STANDARD
BEGIN:DAYLIGHT
TZOFFSETFROM:-0800
TZOFFSETTO:-0700
TZNAME:PDT
DTSTART:20250309T100000
END:DAYLIGHT
BEGIN:STANDARD
TZOFFSETFROM:-0700
TZOFFSETTO:-0800
TZNAME:PST
DTSTART:20251102T090000
END:STANDARD
BEGIN:DAYLIGHT
TZOFFSETFROM:-0800
TZOFFSETTO:-0700
TZNAME:PDT
DTSTART:20260308T100000
END:DAYLIGHT
BEGIN:STANDARD
TZOFFSETFROM:-0700
TZOFFSETTO:-0800
TZNAME:PST
DTSTART:20261101T090000
END:STANDARD
BEGIN:DAYLIGHT
TZOFFSETFROM:-0800
TZOFFSETTO:-0700
TZNAME:PDT
DTSTART:20270314T100000
END:DAYLIGHT
BEGIN:STANDARD
TZOFFSETFROM:-0700
TZOFFSETTO:-0800
TZNAME:PST
DTSTART:20271107T090000
END:STANDARD
END:VTIMEZONE
BEGIN:VEVENT
DTSTART;TZID=America/Los_Angeles:20260307T170000
DTEND;TZID=America/Los_Angeles:20260307T220000
DTSTAMP:20260423T145507
CREATED:20260207T151959Z
LAST-MODIFIED:20260207T163601Z
UID:8438-1772902800-1772920800@ala291.com
SUMMARY:Palm Royale Party
DESCRIPTION:
URL:https://ala291.com/event/palm-royal/
CATEGORIES:Fun
ATTACH;FMTTYPE=image/jpeg:https://ala291.com/wp-content/uploads/2026/02/Palm-Royale_print-flyer.jpg
END:VEVENT
BEGIN:VEVENT
DTSTART;TZID=America/Los_Angeles:20251207T110000
DTEND;TZID=America/Los_Angeles:20251207T130000
DTSTAMP:20260423T145507
CREATED:20251018T162132Z
LAST-MODIFIED:20251018T162533Z
UID:7560-1765105200-1765112400@ala291.com
SUMMARY:Children's Christmas Party
DESCRIPTION:
URL:https://ala291.com/event/childrens-christmas-party/
CATEGORIES:Fun,Holiday,Volunteer Opp
ATTACH;FMTTYPE=image/jpeg:https://ala291.com/wp-content/uploads/2025/10/Children-Christmas-Party.jpg
END:VEVENT
BEGIN:VEVENT
DTSTART;TZID=America/Los_Angeles:20251120T030000
DTEND;TZID=America/Los_Angeles:20251120T190000
DTSTAMP:20260423T145507
CREATED:20251018T162739Z
LAST-MODIFIED:20251018T162739Z
UID:7563-1763607600-1763665200@ala291.com
SUMMARY:Holiday Boutique
DESCRIPTION:
URL:https://ala291.com/event/holiday-boutique-2/
CATEGORIES:Fun,Holiday,Volunteer Opp
END:VEVENT
BEGIN:VEVENT
DTSTART;TZID=America/Los_Angeles:20251026T110000
DTEND;TZID=America/Los_Angeles:20251026T110000
DTSTAMP:20260423T145507
CREATED:20250805T182318Z
LAST-MODIFIED:20251011T175531Z
UID:6564-1761476400-1761476400@ala291.com
SUMMARY:Kids Halloween Party
DESCRIPTION:
URL:https://ala291.com/event/kids-halloween-party/
CATEGORIES:Fun
ATTACH;FMTTYPE=image/jpeg:https://ala291.com/wp-content/uploads/2025/09/Kids-Halloween-Party.jpg
END:VEVENT
BEGIN:VEVENT
DTSTART;TZID=America/Los_Angeles:20251018T170000
DTEND;TZID=America/Los_Angeles:20251018T220000
DTSTAMP:20260423T145507
CREATED:20250805T182159Z
LAST-MODIFIED:20251011T174608Z
UID:6562-1760806800-1760824800@ala291.com
SUMMARY:100 Year Anniversary Dinner and Dance
DESCRIPTION:
URL:https://ala291.com/event/100-year-anniversary-dinner-and-dance/
CATEGORIES:Fun
ATTACH;FMTTYPE=image/jpeg:https://ala291.com/wp-content/uploads/2025/09/100-year-Dinner-Dance.jpg
END:VEVENT
BEGIN:VEVENT
DTSTART;TZID=America/Los_Angeles:20250921T110000
DTEND;TZID=America/Los_Angeles:20250921T140000
DTSTAMP:20260423T145507
CREATED:20250819T010411Z
LAST-MODIFIED:20250819T010412Z
UID:6624-1758452400-1758463200@ala291.com
SUMMARY:Afternoon Tea and Fashions for the Decades
DESCRIPTION:
URL:https://ala291.com/event/afternoon-tea-and-fashions-for-the-decades/
CATEGORIES:Fun
ATTACH;FMTTYPE=image/jpeg:https://ala291.com/wp-content/uploads/2025/08/Afternoon-Tea-Fashions-Decades.jpg
END:VEVENT
BEGIN:VEVENT
DTSTART;TZID=America/Los_Angeles:20250831T110000
DTEND;TZID=America/Los_Angeles:20250831T130000
DTSTAMP:20260423T145507
CREATED:20250816T014314Z
LAST-MODIFIED:20250819T010441Z
UID:6588-1756638000-1756645200@ala291.com
SUMMARY:Bunco Time
DESCRIPTION:
URL:https://ala291.com/event/bunco-time/
CATEGORIES:Fun
ATTACH;FMTTYPE=image/jpeg:https://ala291.com/wp-content/uploads/2025/08/Bunco-Time.jpg
END:VEVENT
BEGIN:VEVENT
DTSTART;TZID=America/Los_Angeles:20250727T173000
DTEND;TZID=America/Los_Angeles:20250727T203000
DTSTAMP:20260423T145507
CREATED:20250129T154041Z
LAST-MODIFIED:20250719T214104Z
UID:5475-1753637400-1753648200@ala291.com
SUMMARY:Movie Night
DESCRIPTION:Main Hall
URL:https://ala291.com/event/movie-night/
CATEGORIES:Fun
ATTACH;FMTTYPE=image/jpeg:https://ala291.com/wp-content/uploads/2025/07/Movie-Night.jpg
END:VEVENT
BEGIN:VEVENT
DTSTART;TZID=America/Los_Angeles:20250524T190000
DTEND;TZID=America/Los_Angeles:20250524T190000
DTSTAMP:20260423T145507
CREATED:20250331T022702Z
LAST-MODIFIED:20250331T022723Z
UID:5792-1748113200-1748113200@ala291.com
SUMMARY:Angels Game
DESCRIPTION:
URL:https://ala291.com/event/angels-game/
CATEGORIES:Fun
ATTACH;FMTTYPE=image/jpeg:https://ala291.com/wp-content/uploads/2025/03/Angel-game-05-24-2025-flyer-03-30-2025.jpg
END:VEVENT
BEGIN:VEVENT
DTSTART;TZID=America/Los_Angeles:20250427T110000
DTEND;TZID=America/Los_Angeles:20250427T150000
DTSTAMP:20260423T145507
CREATED:20250331T022516Z
LAST-MODIFIED:20250331T023137Z
UID:5789-1745751600-1745766000@ala291.com
SUMMARY:Quartermania
DESCRIPTION:Main Hall
URL:https://ala291.com/event/quartermania-2/
CATEGORIES:Fun
ATTACH;FMTTYPE=image/jpeg:https://ala291.com/wp-content/uploads/2025/03/Quartermania-Flyer.jpg
END:VEVENT
BEGIN:VEVENT
DTSTART;TZID=America/Los_Angeles:20250227T160000
DTEND;TZID=America/Los_Angeles:20250227T190000
DTSTAMP:20260423T145507
CREATED:20250129T153722Z
LAST-MODIFIED:20250129T154934Z
UID:5472-1740672000-1740682800@ala291.com
SUMMARY:Poppy Making
DESCRIPTION:Main Hall
URL:https://ala291.com/event/poppy-making/
CATEGORIES:Fun
ATTACH;FMTTYPE=image/png:https://ala291.com/wp-content/uploads/2025/01/newpoppy.png
END:VEVENT
BEGIN:VEVENT
DTSTART;TZID=America/Los_Angeles:20250222T173000
DTEND;TZID=America/Los_Angeles:20250222T220000
DTSTAMP:20260423T145507
CREATED:20250114T162146Z
LAST-MODIFIED:20250114T162223Z
UID:5358-1740245400-1740261600@ala291.com
SUMMARY:Roaring 20's Party
DESCRIPTION:
URL:https://ala291.com/event/roaring-20s-party/
CATEGORIES:Fun
ATTACH;FMTTYPE=image/jpeg:https://ala291.com/wp-content/uploads/2025/01/ALA-roaring-20s-party.jpg
END:VEVENT
BEGIN:VEVENT
DTSTART;TZID=America/Los_Angeles:20250222T100000
DTEND;TZID=America/Los_Angeles:20250222T210000
DTSTAMP:20260423T145507
CREATED:20250102T161532Z
LAST-MODIFIED:20250114T162411Z
UID:5322-1740218400-1740258000@ala291.com
SUMMARY:Drawing Raffle Tickets
DESCRIPTION:
URL:https://ala291.com/event/drawing-raffle-tickets/
CATEGORIES:Fun
END:VEVENT
BEGIN:VEVENT
DTSTART;TZID=America/Los_Angeles:20250125T000000
DTEND;TZID=America/Los_Angeles:20250125T000000
DTSTAMP:20260423T145507
CREATED:20241211T212217Z
LAST-MODIFIED:20241228T223453Z
UID:5268-1737763200-1737763200@ala291.com
SUMMARY:100-Year Celebration for January
DESCRIPTION:Newport Beach – Board Walk\nTime TBD
URL:https://ala291.com/event/100-year-celebration-for-january/
CATEGORIES:Fun
ATTACH;FMTTYPE=image/jpeg:https://ala291.com/wp-content/uploads/2024/12/100anniv-jan25.jpg
END:VEVENT
BEGIN:VEVENT
DTSTART;TZID=America/Los_Angeles:20241219T160000
DTEND;TZID=America/Los_Angeles:20241219T210000
DTSTAMP:20260423T145507
CREATED:20241125T113934Z
LAST-MODIFIED:20241125T113934Z
UID:5217-1734624000-1734642000@ala291.com
SUMMARY:Dockside Boat Parade Viewing
DESCRIPTION:
URL:https://ala291.com/event/dockside-boat-parade-viewing/
CATEGORIES:Fun,Holiday
ATTACH;FMTTYPE=image/jpeg:https://ala291.com/wp-content/uploads/2024/11/Dockside-Xmas-Viewing-Festivity.jpg
END:VEVENT
BEGIN:VEVENT
DTSTART;TZID=America/Los_Angeles:20241218T170000
DTEND;TZID=America/Los_Angeles:20241222T213000
DTSTAMP:20260423T145507
CREATED:20241125T114726Z
LAST-MODIFIED:20241125T114758Z
UID:5222-1734541200-1734903000@ala291.com
SUMMARY:Valor Christmas Boat Parade
DESCRIPTION:
URL:https://ala291.com/event/valor-christmas-boat-parade/
CATEGORIES:Fun,Holiday
ATTACH;FMTTYPE=image/jpeg:https://ala291.com/wp-content/uploads/2024/11/Valor-xmas-boat-parade.jpg
END:VEVENT
BEGIN:VEVENT
DTSTART;TZID=America/Los_Angeles:20241218T160000
DTEND;TZID=America/Los_Angeles:20241222T210000
DTSTAMP:20260423T145507
CREATED:20241125T114941Z
LAST-MODIFIED:20241125T115041Z
UID:5225-1734537600-1734901200@ala291.com
SUMMARY:Liberty Christmas Boat Parade
DESCRIPTION:
URL:https://ala291.com/event/liberty-christmas-boat-parade/
CATEGORIES:Fun,Holiday
ATTACH;FMTTYPE=image/jpeg:https://ala291.com/wp-content/uploads/2024/11/Liberty-xmas-boat-parade-1.jpg
END:VEVENT
BEGIN:VEVENT
DTSTART;TZID=America/Los_Angeles:20241215T170000
DTEND;TZID=America/Los_Angeles:20241215T200000
DTSTAMP:20260423T145507
CREATED:20241125T113438Z
LAST-MODIFIED:20241125T113439Z
UID:5212-1734282000-1734292800@ala291.com
SUMMARY:Valor Harbor Lights Cruise
DESCRIPTION:
URL:https://ala291.com/event/valor-harbor-lights-cruise/
CATEGORIES:Fun,Holiday
ATTACH;FMTTYPE=image/jpeg:https://ala291.com/wp-content/uploads/2024/11/Valor-Harbor-light-Cruise.jpg
END:VEVENT
BEGIN:VEVENT
DTSTART;TZID=America/Los_Angeles:20241215T160000
DTEND;TZID=America/Los_Angeles:20241217T190000
DTSTAMP:20260423T145507
CREATED:20241125T113722Z
LAST-MODIFIED:20241125T113747Z
UID:5214-1734278400-1734462000@ala291.com
SUMMARY:Liberty Harbor Lights Cruise
DESCRIPTION:
URL:https://ala291.com/event/liberty-harbor-lights-cruise/
CATEGORIES:Fun,Holiday
ATTACH;FMTTYPE=image/jpeg:https://ala291.com/wp-content/uploads/2024/11/Liberty-Harbor-Lights-Cruise.jpg
END:VEVENT
BEGIN:VEVENT
DTSTART;TZID=America/Los_Angeles:20241208T110000
DTEND;TZID=America/Los_Angeles:20241208T130000
DTSTAMP:20260423T145507
CREATED:20241120T112943Z
LAST-MODIFIED:20241125T113018Z
UID:5177-1733655600-1733662800@ala291.com
SUMMARY:Kids Christmas Party
DESCRIPTION:
URL:https://ala291.com/event/kids-christmas-party-3/
CATEGORIES:Fun,Holiday
ATTACH;FMTTYPE=image/jpeg:https://ala291.com/wp-content/uploads/2024/11/Kids-Christmas-Party-2024.jpg
END:VEVENT
BEGIN:VEVENT
DTSTART;TZID=America/Los_Angeles:20241207T080000
DTEND;TZID=America/Los_Angeles:20241207T100000
DTSTAMP:20260423T145507
CREATED:20241028T144405Z
LAST-MODIFIED:20241028T144526Z
UID:5021-1733558400-1733565600@ala291.com
SUMMARY:Good Ride Poker Run OC
DESCRIPTION:
URL:https://ala291.com/event/good-ride-poker-run/
CATEGORIES:Fun
ATTACH;FMTTYPE=image/jpeg:https://ala291.com/wp-content/uploads/2024/10/Good-Ride-OC-2024-Flyer.jpg
END:VEVENT
BEGIN:VEVENT
DTSTART;TZID=America/Los_Angeles:20241125T173000
DTEND;TZID=America/Los_Angeles:20241125T173000
DTSTAMP:20260423T145507
CREATED:20241116T145511Z
LAST-MODIFIED:20241116T145512Z
UID:5160-1732555800-1732555800@ala291.com
SUMMARY:Christmas Tree Decorating
DESCRIPTION:
URL:https://ala291.com/event/christmas-tree-decorating/
CATEGORIES:Fun,Holiday,Volunteer Opp
ATTACH;FMTTYPE=image/jpeg:https://ala291.com/wp-content/uploads/2024/11/Xmas-Decor.jpg
END:VEVENT
BEGIN:VEVENT
DTSTART;TZID=America/Los_Angeles:20241123T100000
DTEND;TZID=America/Los_Angeles:20241123T120000
DTSTAMP:20260423T145507
CREATED:20240221T192831Z
LAST-MODIFIED:20240914T180549Z
UID:3789-1732356000-1732363200@ala291.com
SUMMARY:Troop Shipping
DESCRIPTION:Main Hall
URL:https://ala291.com/event/troop-shipping-4-2/
CATEGORIES:Donations Needed,Fun,Volunteer Opp
ATTACH;FMTTYPE=image/jpeg:https://ala291.com/wp-content/uploads/2024/09/Troop-Shipping.jpg
END:VEVENT
BEGIN:VEVENT
DTSTART;TZID=America/Los_Angeles:20241121T150000
DTEND;TZID=America/Los_Angeles:20241121T193000
DTSTAMP:20260423T145507
CREATED:20240221T191219Z
LAST-MODIFIED:20241019T231921Z
UID:3774-1732201200-1732217400@ala291.com
SUMMARY:Holiday Boutique
DESCRIPTION:<!–themify_builder_static–><!–/themify_builder_static–>
URL:https://ala291.com/event/holiday-boutique-3-2-2/
CATEGORIES:Fun,Holiday
ATTACH;FMTTYPE=image/jpeg:https://ala291.com/wp-content/uploads/2024/10/Aux-holiday-boutique-24.jpg
END:VEVENT
BEGIN:VEVENT
DTSTART;TZID=America/Los_Angeles:20241027T110000
DTEND;TZID=America/Los_Angeles:20241027T130000
DTSTAMP:20260423T145507
CREATED:20230905T164258Z
LAST-MODIFIED:20240923T204622Z
UID:2822-1730026800-1730034000@ala291.com
SUMMARY:Kids Halloween Party
DESCRIPTION:MAIN HALL\nKids Halloween Party\nChildren are encourage to wear their favorite costumes\, there will be pizza\, drinks\, and lots of games.
URL:https://ala291.com/event/kids-halloween-party-2/
CATEGORIES:Fun
ATTACH;FMTTYPE=image/jpeg:https://ala291.com/wp-content/uploads/2022/11/Halloween-2022-e1708542609747.jpg
ORGANIZER;CN="Bea Foster":MAILTO:child-youth@ala291.com
END:VEVENT
BEGIN:VEVENT
DTSTART;TZID=America/Los_Angeles:20240707T000000
DTEND;TZID=America/Los_Angeles:20240707T235900
DTSTAMP:20260423T145507
CREATED:20240221T190144Z
LAST-MODIFIED:20240221T195058Z
UID:3764-1720310400-1720396740@ala291.com
SUMMARY:Post 291 - 4th of July & 100 Year Celebration
DESCRIPTION:
URL:https://ala291.com/event/post-291-4th-of-july-100-year-celebration/
CATEGORIES:Fun,Holiday
ATTACH;FMTTYPE=image/png:https://ala291.com/wp-content/uploads/2024/02/100-Anniversary.png
END:VEVENT
BEGIN:VEVENT
DTSTART;TZID=America/Los_Angeles:20240601T170000
DTEND;TZID=America/Los_Angeles:20240601T170000
DTSTAMP:20260423T145507
CREATED:20240204T191704Z
LAST-MODIFIED:20240601T145354Z
UID:3425-1717261200-1717261200@ala291.com
SUMMARY:Salute to Service
DESCRIPTION:Main Hall
URL:https://ala291.com/event/salute-to-service-2/
CATEGORIES:Fun
ATTACH;FMTTYPE=image/jpeg:https://ala291.com/wp-content/uploads/2024/02/Salute-to-Service-2024.jpg
END:VEVENT
BEGIN:VEVENT
DTSTART;TZID=America/Los_Angeles:20240518T100000
DTEND;TZID=America/Los_Angeles:20240518T120000
DTSTAMP:20260423T145507
CREATED:20240204T190908Z
LAST-MODIFIED:20240315T190756Z
UID:3416-1716026400-1716033600@ala291.com
SUMMARY:Troop Shipping
DESCRIPTION:MAIN HALL \nSupport the Auxiliary and Volunteer at Post 291!\nPack boxes for our Military on bases around the world
URL:https://ala291.com/event/troop-shipping-4/
CATEGORIES:Donations Needed,Fun,Volunteer Opp
ATTACH;FMTTYPE=image/jpeg:https://ala291.com/wp-content/uploads/2024/03/Troop-Shipping-Website-2024.jpg
END:VEVENT
BEGIN:VEVENT
DTSTART;TZID=America/Los_Angeles:20240427T100000
DTEND;TZID=America/Los_Angeles:20240427T213000
DTSTAMP:20260423T145507
CREATED:20240405T173027Z
LAST-MODIFIED:20240405T173027Z
UID:4301-1714212000-1714253400@ala291.com
SUMMARY:Rib Company Fundraiser Night
DESCRIPTION:Dine with Us:\n12:00pm-9:30pm \nTake-Out\n10:00am-9:00pm
URL:https://ala291.com/event/rib-company-fundraiser-night/
CATEGORIES:Fun,Fundraiser
ATTACH;FMTTYPE=image/jpeg:https://ala291.com/wp-content/uploads/2024/04/Newport-Rib-Fundraiser.jpg
END:VEVENT
BEGIN:VEVENT
DTSTART;TZID=America/Los_Angeles:20240422T120000
DTEND;TZID=America/Los_Angeles:20240422T150000
DTSTAMP:20260423T145507
CREATED:20240204T190817Z
LAST-MODIFIED:20240227T191951Z
UID:3413-1713787200-1713798000@ala291.com
SUMMARY:Bags of Love
DESCRIPTION:MAIN HALL \nSupport the Auxiliary and Volunteer at Post 291!\nPack Bags Of Love (toiletries kit) for homeless \n 
URL:https://ala291.com/event/bags-of-love-2/
CATEGORIES:Donations Needed,Fun,Volunteer Opp
ATTACH;FMTTYPE=image/jpeg:https://ala291.com/wp-content/uploads/2024/02/Bags-of-Love-2024.jpg
END:VEVENT
END:VCALENDAR